BEGIN:VCALENDAR
VERSION:2.0
PRODID:-//Coronado365 - ECPv6.15.10//NONSGML v1.0//EN
CALSCALE:GREGORIAN
METHOD:PUBLISH
X-ORIGINAL-URL:https://coronado365.com
X-WR-CALDESC:Events for Coronado365
REFRESH-INTERVAL;VALUE=DURATION:PT1H
X-Robots-Tag:noindex
X-PUBLISHED-TTL:PT1H
BEGIN:VTIMEZONE
TZID:America/Los_Angeles
BEGIN:DAYLIGHT
TZOFFSETFROM:-0800
TZOFFSETTO:-0700
TZNAME:PDT
DTSTART:20210314T100000
END:DAYLIGHT
BEGIN:STANDARD
TZOFFSETFROM:-0700
TZOFFSETTO:-0800
TZNAME:PST
DTSTART:20211107T090000
END:STANDARD
BEGIN:DAYLIGHT
TZOFFSETFROM:-0800
TZOFFSETTO:-0700
TZNAME:PDT
DTSTART:20220313T100000
END:DAYLIGHT
BEGIN:STANDARD
TZOFFSETFROM:-0700
TZOFFSETTO:-0800
TZNAME:PST
DTSTART:20221106T090000
END:STANDARD
BEGIN:DAYLIGHT
TZOFFSETFROM:-0800
TZOFFSETTO:-0700
TZNAME:PDT
DTSTART:20230312T100000
END:DAYLIGHT
BEGIN:STANDARD
TZOFFSETFROM:-0700
TZOFFSETTO:-0800
TZNAME:PST
DTSTART:20231105T090000
END:STANDARD
END:VTIMEZONE
BEGIN:VEVENT
DTSTART;TZID=America/Los_Angeles:20220926T093000
DTEND;TZID=America/Los_Angeles:20220926T110000
DTSTAMP:20260421T072942
CREATED:20220822T171728Z
LAST-MODIFIED:20220822T171728Z
UID:6020-1664184600-1664190000@coronado365.com
SUMMARY:Safe Harbor Coronado - Understanding Suicide
DESCRIPTION:
URL:https://coronado365.com/event/safe-harbor-coronado-understanding-suicide/
LOCATION:Coronado Public Library\, 640 Orange Avenue\, Coronado\, CA\, 92118\, United States
CATEGORIES:Youth & Schools
ATTACH;FMTTYPE=image/png:https://coronado365.com/wp-content/uploads/2022/08/Logo-Safe-Harbor-Coronado.png
END:VEVENT
BEGIN:VEVENT
DTSTART;TZID=America/Los_Angeles:20220925T140000
DTEND;TZID=America/Los_Angeles:20220925T170000
DTSTAMP:20260421T072942
CREATED:20220814T215708Z
LAST-MODIFIED:20220814T220351Z
UID:5980-1664114400-1664125200@coronado365.com
SUMMARY:Coronado Ferry Landing Concerts - Breezin
DESCRIPTION:
URL:https://coronado365.com/event/coronado-ferry-landing-concerts-breezin/
LOCATION:Coronado Ferry Landing\, 1201 1st Street\, Coronado\, 92118\, United States
CATEGORIES:Music
ATTACH;FMTTYPE=image/png:https://coronado365.com/wp-content/uploads/2022/08/Coronado-Ferry-Landing-logo.png
END:VEVENT
BEGIN:VEVENT
DTSTART;TZID=America/Los_Angeles:20220919T093000
DTEND;TZID=America/Los_Angeles:20220919T110000
DTSTAMP:20260421T072942
CREATED:20220822T172153Z
LAST-MODIFIED:20220822T172618Z
UID:6023-1663579800-1663585200@coronado365.com
SUMMARY:Safe Harbor Coronado - Healthy Relationships Workshop
DESCRIPTION:
URL:https://coronado365.com/event/safe-harbor-coronado-healthy-relationships-workshop/
LOCATION:Coronado Public Library\, 640 Orange Avenue\, Coronado\, CA\, 92118\, United States
CATEGORIES:Youth & Schools
ATTACH;FMTTYPE=image/png:https://coronado365.com/wp-content/uploads/2022/08/Logo-Safe-Harbor-Coronado.png
END:VEVENT
BEGIN:VEVENT
DTSTART;TZID=America/Los_Angeles:20220918T140000
DTEND;TZID=America/Los_Angeles:20220918T170000
DTSTAMP:20260421T072942
CREATED:20220915T043421Z
LAST-MODIFIED:20220915T043501Z
UID:6093-1663509600-1663520400@coronado365.com
SUMMARY:Coronado Ferry Landing Concerts - Street Heart
DESCRIPTION:Sunday\, September 18thrry landing \nrr \n\nStreet Heart\, Coronado Ferry Landing Concert Series\n\n2-5 by the Ferry Pier\, 1201 First Street\nCome enjoy a free night of music on the beautiful Coronado Ferry Landing with Street Heart\, San Diego’s favorite classic rock band!\nhttps://coronadoferrylanding.com/events/
URL:https://coronado365.com/event/coronado-ferry-landing-concerts-street-heart-2/
LOCATION:Coronado Ferry Landing\, 1201 1st Street\, Coronado\, 92118\, United States
CATEGORIES:Music
END:VEVENT
BEGIN:VEVENT
DTSTART;TZID=America/Los_Angeles:20220918T140000
DTEND;TZID=America/Los_Angeles:20220918T170000
DTSTAMP:20260421T072942
CREATED:20220814T215033Z
LAST-MODIFIED:20220814T215033Z
UID:5978-1663509600-1663520400@coronado365.com
SUMMARY:Coronado Ferry Landing Concerts - Street Heart
DESCRIPTION:
URL:https://coronado365.com/event/coronado-ferry-landing-concerts-street-heart/
LOCATION:Coronado Ferry Landing\, 1201 1st Street\, Coronado\, 92118\, United States
CATEGORIES:Music
ATTACH;FMTTYPE=image/png:https://coronado365.com/wp-content/uploads/2022/08/Coronado-Ferry-Landing-logo.png
END:VEVENT
BEGIN:VEVENT
DTSTART;TZID=America/Los_Angeles:20220917T130000
DTEND;TZID=America/Los_Angeles:20220917T170000
DTSTAMP:20260421T072942
CREATED:20220519T184041Z
LAST-MODIFIED:20220911T190004Z
UID:5421-1663419600-1663434000@coronado365.com
SUMMARY:Beer By The Bay
DESCRIPTION:Coronado’s Beer by the Bay is back! Come enjoy a local beer and wine fest like no other: Island Style! \nBeer by the Bay is scheduled for Saturday\, September 17\, 2022 at the beautiful Coronado Ferry Landing from 1pm-5pm. Guests enjoy unlimited tastings from several of the best local craft breweries and best regional wineries\, fantastic live entertainment\, beer pong\, flip cup\, cornhole\, giant Jenga and lots of fun in the sun overlooking beautiful San Diego Bay. Returning this year is the home brewers’ section and the yacht rock band High Tide Society. \nTickets can be purchased at: https://ilcbeerbythebay2022.eventbrite.com.  Get your tickets now for an incredible day! There will be 250 VIP Tickets that come with many perks including exclusive early access for VIPs only who can arrive at noon. \nAlong with the best local craft beers\, wines and spirts\, guests will enjoy a variety of great live music\, unparalleled San Diego views\, and tons of fun in the sun! Held at the festive Ferry Landing\, this event is easy to get to by ferry\, water taxi\, or a short cab ride from the “mainland” over the iconic Bay Bridge. \nFunds raised at this year’s Beer by the Bay will primarily benefit Safe Harbor (formerly SAFE)\, which offers a variety of valuable mental health and wellness programs to Coronado students and parents. Islander Ladies Club has been able to donate approximately $90\,000 to local Coronado non-profit charities since launching Beer By the Bay in 2015. \n**No Refunds. No pets. No one under 21. Rain or Shine.** \nIslander Ladies Club is a local nonprofit organization dedicated to contributing to the betterment of the community and promoting tolerance.  Special thanks to Island Beer Club and Coronado Brewing Company for helping with this evening.
URL:https://coronado365.com/event/beer-by-the-bay/
LOCATION:Coronado Ferry Landing\, 1201 1st Street\, Coronado\, 92118\, United States
ATTACH;FMTTYPE=image/jpeg:https://coronado365.com/wp-content/uploads/2022/05/Picture1.jpg
END:VEVENT
BEGIN:VEVENT
DTSTART;TZID=America/Los_Angeles:20220916T190000
DTEND;TZID=America/Los_Angeles:20220916T210000
DTSTAMP:20260421T072942
CREATED:20220822T040830Z
LAST-MODIFIED:20220822T040830Z
UID:6006-1663354800-1663362000@coronado365.com
SUMMARY:CHS Football - Home Game
DESCRIPTION:
URL:https://coronado365.com/event/chs-football-home-game-2/
LOCATION:CHS Niedermeyer Field\, 701 Seventh Street\, Coronado\, CA\, 92118\, United States
CATEGORIES:Youth & Schools
END:VEVENT
BEGIN:VEVENT
DTSTART;TZID=America/Los_Angeles:20220915T173000
DTEND;TZID=America/Los_Angeles:20220915T193000
DTSTAMP:20260421T072942
CREATED:20220914T180740Z
LAST-MODIFIED:20220914T180740Z
UID:6078-1663263000-1663270200@coronado365.com
SUMMARY:CHA Wine & Lecture: The Service Knows and Will Remember
DESCRIPTION:The Coronado Historical Association invites you to join us for the next lecture in the Wine & Lecture series\, The Service Knows and Will Remember: The Airplane Crash Site Memorial on Japacha Ridge. Local award-winning historian and preservationist Alexander D. Bevil will use historic photographs and maps to reveal a forgotten chapter in North Island’s early military history: the search for missing pilot 1st Lieutenant Charles L. Webber\, and his passenger\, Assistant Chief of Cavalry Lt. Colonel Frances C. Marshall. The search\, which lasted from December 7\, 1922\, to February 1923\, was the largest and longest combined air and ground search in American military history during peacetime. \nThe presentation will also focus on the leadership role Rockwell Field’s pilots and observers played flying outdated aircraft over forbidding mountain and desert terrain from San Diego to Tucson\, Arizona. It will also discuss the role these men played in recovering Webber and Marshall’s remains and the erection of the first of two monuments in their memory at the crash site. Two of these pilots\, base commander Major Henry “Hap” Arnold\, and Texas-based pilot Major Theodore C. Macaulay\, would later play key command roles during World War II. After the war\, Major Macaulay would serve as an active and well-respected member of the Coronado Civic Club and a local branch bank manager. \nMember ($15.00 each) \nNon-Member ($18.00 each) \nReception at 5:30 pm\, followed by 6:00 pm lecture. Doors open at 5:20 pm. \nImportant Registration Information: Attendance is restricted to fully vaccinated persons with a booster shot. Capacity is limited and reservations are required. No walk-ins will be admitted. \nIf you have any questions please email info@coronadohistory.org or call (619) 435-7242.
URL:https://coronado365.com/event/cha-wine-lecture-the-service-knows-and-will-remember/
LOCATION:Coronado Historical Association\, 1100 Orange Avenue\, Coronado\, 92118\, United States
CATEGORIES:Arts & Culture,Coronado Historical Association
END:VEVENT
BEGIN:VEVENT
DTSTART;TZID=America/Los_Angeles:20220915T110000
DTEND;TZID=America/Los_Angeles:20220915T120000
DTSTAMP:20260421T072942
CREATED:20220724T225735Z
LAST-MODIFIED:20220724T225735Z
UID:5854-1663239600-1663243200@coronado365.com
SUMMARY:Naval Base Coronado Quarterly Town Hall Meeting
DESCRIPTION:Join Naval Base Coronado for the quarterly town hall meeting \nWhen:      June 28 at 11am \nWhere:     Facebook Live – facebook.com/navalbasecoronado
URL:https://coronado365.com/event/naval-base-coronado-quarterly-town-hall-meeting-2/
CATEGORIES:Navy
END:VEVENT
BEGIN:VEVENT
DTSTART;TZID=America/Los_Angeles:20220914T000000
DTEND;TZID=America/Los_Angeles:20220914T000000
DTSTAMP:20260421T072942
CREATED:20220914T182336Z
LAST-MODIFIED:20220914T194930Z
UID:6084-1663113600-1663113600@coronado365.com
SUMMARY:Wine & Lecture: Coronado Golf & Its Champions (1897-1905)
DESCRIPTION:Wine & Lecture: Coronado Golf & Its Champions (1897-1905)\nThe Coronado Historical Association invites you to the next lecture in the Wine & Lecture series: Coronado Golf & Its Champions (1897-1905). Speaker David Mackesey will share the story of Coronado’s earliest two golf links and the Coronado connection to Carnoustie’s Alex Smith\, who went on to win the U.S. Open in 1906 and 1910. \nReception at 5:30 pm\, followed by 6:00 pm lecture. Doors open at 5:20 pm. \nTickets are available now by clicking Register Now above!  \nMember ($15.00 each) \nNon-Member ($18.00 each) \nImportant Registration Information: Attendance is restricted to fully vaccinated persons with a booster shot. Capacity is limited and reservations are required. No walk-ins will be admitted. \nIf you have any questions please email info@coronadohistory.org or call (619) 435-7242. \n  \nAbout the Speaker:  \nDavid Mackesey is the author of the book FROM COUNTRY ESTATE TO COUNTRY CLUB\, THE HISTORY OF DIABLO COUNTRY CLUB\, is the Club Historian for Carnoustie (Scotland) Golf Club\, Historian for Diablo (California) Country Club\, and Co-Chair\, The Smith Society.
URL:https://coronado365.com/event/wine-lecture-coronado-golf-its-champions-1897-1905/
CATEGORIES:Arts & Culture,Coronado Historical Association
ATTACH;FMTTYPE=image/jpeg:https://coronado365.com/wp-content/uploads/2022/05/new_cha_logo-265x206-1.jpg
END:VEVENT
BEGIN:VEVENT
DTSTART;TZID=America/Los_Angeles:20220705T143000
DTEND;TZID=America/Los_Angeles:20220705T180000
DTSTAMP:20260421T072942
CREATED:20220607T033822Z
LAST-MODIFIED:20220607T034902Z
UID:5524-1657031400-1657044000@coronado365.com
SUMMARY:Farmers' Market
DESCRIPTION:Farmers’ Market at Ferry Landing\n2:30-6 PM @ 1201 First Street\nCoronado Farmers’ Market is one of the longest running farmers’ markets in San Diego County. Farmers come from all over San Diego County to sell their fresh produce at the Coronado market. Find us at First and B on Tuesday afternoons.
URL:https://coronado365.com/event/farmers-market-8/
LOCATION:Coronado Ferry Landing\, 1201 1st Street\, Coronado\, 92118\, United States
END:VEVENT
BEGIN:VEVENT
DTSTART;TZID=America/Los_Angeles:20220911T140000
DTEND;TZID=America/Los_Angeles:20220911T170000
DTSTAMP:20260421T072942
CREATED:20220814T214139Z
LAST-MODIFIED:20220814T214139Z
UID:5970-1662904800-1662915600@coronado365.com
SUMMARY:Coronado Ferry Landing Concerts - Ron's Garage
DESCRIPTION:
URL:https://coronado365.com/event/coronado-ferry-landing-concerts-rons-garage/
LOCATION:Coronado Ferry Landing\, 1201 1st Street\, Coronado\, 92118\, United States
CATEGORIES:Music
ATTACH;FMTTYPE=image/png:https://coronado365.com/wp-content/uploads/2022/08/Coronado-Ferry-Landing-logo.png
END:VEVENT
BEGIN:VEVENT
DTSTART;TZID=America/Los_Angeles:20220909T180000
DTEND;TZID=America/Los_Angeles:20220909T210000
DTSTAMP:20260421T072942
CREATED:20220822T040510Z
LAST-MODIFIED:20220822T040624Z
UID:6002-1662746400-1662757200@coronado365.com
SUMMARY:CHS Football - Home Game
DESCRIPTION:
URL:https://coronado365.com/event/chs-football-home-game/
LOCATION:CHS Niedermeyer Field\, 701 Seventh Street\, Coronado\, CA\, 92118\, United States
CATEGORIES:Youth & Schools
END:VEVENT
BEGIN:VEVENT
DTSTART;TZID=America/Los_Angeles:20220705T143000
DTEND;TZID=America/Los_Angeles:20220705T180000
DTSTAMP:20260421T072942
CREATED:20220607T033822Z
LAST-MODIFIED:20220607T034902Z
UID:5524-1657031400-1657044000@coronado365.com
SUMMARY:Farmers' Market
DESCRIPTION:Farmers’ Market at Ferry Landing\n2:30-6 PM @ 1201 First Street\nCoronado Farmers’ Market is one of the longest running farmers’ markets in San Diego County. Farmers come from all over San Diego County to sell their fresh produce at the Coronado market. Find us at First and B on Tuesday afternoons.
URL:https://coronado365.com/event/farmers-market-8/
LOCATION:Coronado Ferry Landing\, 1201 1st Street\, Coronado\, 92118\, United States
END:VEVENT
BEGIN:VEVENT
DTSTART;TZID=America/Los_Angeles:20220904T140000
DTEND;TZID=America/Los_Angeles:20220904T170000
DTSTAMP:20260421T072942
CREATED:20220814T194303Z
LAST-MODIFIED:20220814T194303Z
UID:5968-1662300000-1662310800@coronado365.com
SUMMARY:Coronado Ferry Landing Concerts - The New Catillacs
DESCRIPTION:
URL:https://coronado365.com/event/coronado-ferry-landing-concerts-the-new-catillacs-2/
LOCATION:Coronado Ferry Landing\, 1201 1st Street\, Coronado\, 92118\, United States
CATEGORIES:Music
ATTACH;FMTTYPE=image/png:https://coronado365.com/wp-content/uploads/2022/08/Coronado-Ferry-Landing-logo.png
END:VEVENT
BEGIN:VEVENT
DTSTART;TZID=America/Los_Angeles:20220903T140000
DTEND;TZID=America/Los_Angeles:20220903T170000
DTSTAMP:20260421T072942
CREATED:20220814T193914Z
LAST-MODIFIED:20220814T193914Z
UID:5965-1662213600-1662224400@coronado365.com
SUMMARY:Coronado Ferry Landing Concerts - Captain Morgan Lee and the Village of Kore
DESCRIPTION:
URL:https://coronado365.com/event/coronado-ferry-landing-concerts-captain-morgan-lee-and-the-village-of-kore/
LOCATION:Coronado Ferry Landing\, 1201 1st Street\, Coronado\, 92118\, United States
CATEGORIES:Music
ATTACH;FMTTYPE=image/png:https://coronado365.com/wp-content/uploads/2022/08/Coronado-Ferry-Landing-logo.png
END:VEVENT
BEGIN:VEVENT
DTSTART;TZID=America/Los_Angeles:20220609T170000
DTEND;TZID=America/Los_Angeles:20220609T200000
DTSTAMP:20260421T072942
CREATED:20220607T034531Z
LAST-MODIFIED:20220607T034634Z
UID:5527-1654794000-1654804800@coronado365.com
SUMMARY:Food Truck Thursday
DESCRIPTION:Thursday\, July 7th \n\nFood Truck Thursday \n\n5-8 PM @ Coronado Island Marriott\, 2000 Second Street \nJoin us on our Terrace every Thursday from 5 to 8 pm and enjoy delicious offerings from local vendors plus live music. With rotating great local food and beverage vendors\, this is a can’t-miss event.
URL:https://coronado365.com/event/food-truck-thursday/
LOCATION:coronado island marriott\, 2000 Second Street\, Coronado\, CA\, 92118\, United States
CATEGORIES:Special Event
END:VEVENT
BEGIN:VEVENT
DTSTART;TZID=America/Los_Angeles:20220831T170000
DTEND;TZID=America/Los_Angeles:20220831T200000
DTSTAMP:20260421T072942
CREATED:20220807T221419Z
LAST-MODIFIED:20220808T154413Z
UID:5921-1661965200-1661976000@coronado365.com
SUMMARY:Stand by Me - 2022 Classic Film Series
DESCRIPTION:Wednesday\, August 31st \n\nStand by Me\, 2022 Classic Film Series\n\n5 PM @ Vintage Village Theater\, 941 Orange Ave\nStand by Me (1986) directed by Rob Reiner tells the story of a writer who recounts a childhood journey with his friends to find the body of a missing boy. \nTickets are $15 and include a complimentary glass of beer\, wine\, or a non-alcoholic beverage. \nhttps://coronadofilmfest.com/2022-classic-movie-series/
URL:https://coronado365.com/event/stand-by-me-2022-classic-film-series/
LOCATION:Village Theater\, 820 Orange Avenue\, Coronado\, CA\, 92118\, United States
CATEGORIES:Special Event
END:VEVENT
BEGIN:VEVENT
DTSTART;TZID=America/Los_Angeles:20220705T143000
DTEND;TZID=America/Los_Angeles:20220705T180000
DTSTAMP:20260421T072942
CREATED:20220607T033822Z
LAST-MODIFIED:20220607T034902Z
UID:5524-1657031400-1657044000@coronado365.com
SUMMARY:Farmers' Market
DESCRIPTION:Farmers’ Market at Ferry Landing\n2:30-6 PM @ 1201 First Street\nCoronado Farmers’ Market is one of the longest running farmers’ markets in San Diego County. Farmers come from all over San Diego County to sell their fresh produce at the Coronado market. Find us at First and B on Tuesday afternoons.
URL:https://coronado365.com/event/farmers-market-8/
LOCATION:Coronado Ferry Landing\, 1201 1st Street\, Coronado\, 92118\, United States
END:VEVENT
BEGIN:VEVENT
DTSTART;TZID=America/Los_Angeles:20220830T093000
DTEND;TZID=America/Los_Angeles:20220830T110000
DTSTAMP:20260421T072942
CREATED:20220822T172433Z
LAST-MODIFIED:20220822T172433Z
UID:6025-1661851800-1661857200@coronado365.com
SUMMARY:Safe Harbor Coronado - Raising Resilient Kids
DESCRIPTION:
URL:https://coronado365.com/event/safe-harbor-coronado-raising-resilient-kids/
LOCATION:Coronado Public Library\, 640 Orange Avenue\, Coronado\, CA\, 92118\, United States
CATEGORIES:Youth & Schools
ATTACH;FMTTYPE=image/png:https://coronado365.com/wp-content/uploads/2022/08/Logo-Safe-Harbor-Coronado.png
END:VEVENT
BEGIN:VEVENT
DTSTART;TZID=America/Los_Angeles:20220828T170000
DTEND;TZID=America/Los_Angeles:20220828T190000
DTSTAMP:20260421T072942
CREATED:20220807T220932Z
LAST-MODIFIED:20220807T220932Z
UID:5916-1661706000-1661713200@coronado365.com
SUMMARY:It’s Never 2L8 - Coronado Summer Concert Series
DESCRIPTION:Sunday\, August 28th  \n\nIt’s Never 2L8\, Coronado Summer Concert Series\n\n5 PM @ Spreckels Park\, 601 Orange Ave\nA local Coronado favorite\, It’s Never 2L8 will get you off your feet dancing to mainstream and classic hits\, ranging from the 60s to present day dance tunes. \nhttps://coronadoconcert.com/coronado-concert-schedule/
URL:https://coronado365.com/event/its-never-2l8-coronado-summer-concert-series/
CATEGORIES:Music
ATTACH;FMTTYPE=image/png:https://coronado365.com/wp-content/uploads/2022/08/band_its_never_too_late_coronado_concerts.png
END:VEVENT
BEGIN:VEVENT
DTSTART;TZID=America/Los_Angeles:20220828T140000
DTEND;TZID=America/Los_Angeles:20220828T170000
DTSTAMP:20260421T072942
CREATED:20220814T193420Z
LAST-MODIFIED:20220814T193420Z
UID:5963-1661695200-1661706000@coronado365.com
SUMMARY:Coronado Ferry Landing Concerts - Sabrosas
DESCRIPTION:
URL:https://coronado365.com/event/coronado-ferry-landing-concerts-sabrosas/
LOCATION:Coronado Ferry Landing\, 1201 1st Street\, Coronado\, 92118\, United States
CATEGORIES:Music
ATTACH;FMTTYPE=image/png:https://coronado365.com/wp-content/uploads/2022/08/Coronado-Ferry-Landing-logo.png
END:VEVENT
BEGIN:VEVENT
DTSTART;TZID=America/Los_Angeles:20220828T070000
DTEND;TZID=America/Los_Angeles:20220828T110000
DTSTAMP:20260421T072942
CREATED:20220807T221244Z
LAST-MODIFIED:20220807T221244Z
UID:5918-1661670000-1661684400@coronado365.com
SUMMARY:Bike The Bay
DESCRIPTION:Bike the Bay\n\n7 AM @ Embarcadero Marina Park South\, 200 Marina Park Way\nDon’t miss this chance to bike across the Coronado Bridge and around the bay!\nhttps://events.com/r/en_US/registration/15th-annual-bike-the-bay-san-diego-august-816772?fbclid=IwAR1Gh9iZdyDOi2FUNaU4MZiWbL3Ghf9qMfuaqjgiE2Z0fTLCTn5EZVBA62M
URL:https://coronado365.com/event/bike-the-bay/
CATEGORIES:Special Event
ATTACH;FMTTYPE=image/jpeg:https://coronado365.com/wp-content/uploads/2022/08/BTB_Logo_Rec_B1.jpg
END:VEVENT
BEGIN:VEVENT
DTSTART;TZID=America/Los_Angeles:20220827T140000
DTEND;TZID=America/Los_Angeles:20220827T170000
DTSTAMP:20260421T072942
CREATED:20220814T193218Z
LAST-MODIFIED:20220814T193218Z
UID:5960-1661608800-1661619600@coronado365.com
SUMMARY:Coronado Ferry Landing Concerts - Billy Lee and the Swampcritters
DESCRIPTION:
URL:https://coronado365.com/event/coronado-ferry-landing-concerts-billy-lee-and-the-swampcritters/
LOCATION:Coronado Ferry Landing\, 1201 1st Street\, Coronado\, 92118\, United States
CATEGORIES:Music
ATTACH;FMTTYPE=image/png:https://coronado365.com/wp-content/uploads/2022/08/Coronado-Ferry-Landing-logo.png
END:VEVENT
BEGIN:VEVENT
DTSTART;TZID=America/Los_Angeles:20220827T103000
DTEND;TZID=America/Los_Angeles:20220827T180000
DTSTAMP:20260421T072942
CREATED:20220811T213046Z
LAST-MODIFIED:20220811T213610Z
UID:5933-1661596200-1661623200@coronado365.com
SUMMARY:Sharp HospiceCare Benefit Dinner and Regatta
DESCRIPTION:Sharp HospiceCare and Grossmont Hospital Foundation invite you to be part of the largest summertime water event on the San Diego Bay. The annual Sharp HospiceCare Benefit Dinner and Regatta will be held on Friday\, Aug. 26 and Saturday\, Aug. 27. \nThe event kicks off Friday evening\, Aug. 26\, with a pre-race dinner and silent auction\, followed by all-day festivities on Saturday\, Aug. 27\, when guests will board yachts and cruise along the racecourse for a breathtaking view of the regatta and San Diego Bay. \nFor more information or the sign-up visit the Regatta webpage or contact Bill.Navrides@s​harp.com \n  \nSaturday\, August 27\, 2022 \nCoronado Yacht Club \n1030am Registration opens \n12pm Boats leave the docks \n3pm Boat return to docks \n3-6pm Postrace party and dinner
URL:https://coronado365.com/event/sharp-hospicecare-benefit-dinner-and-regatta/
CATEGORIES:Special Event
ATTACH;FMTTYPE=image/jpeg:https://coronado365.com/wp-content/uploads/2022/08/2022-07-01-0001-scaled.jpg
END:VEVENT
BEGIN:VEVENT
DTSTART;TZID=America/Los_Angeles:20220826T170000
DTEND;TZID=America/Los_Angeles:20220826T220000
DTSTAMP:20260421T072942
CREATED:20220811T213324Z
LAST-MODIFIED:20220811T213439Z
UID:5936-1661533200-1661551200@coronado365.com
SUMMARY:Sharp HospiceCare Benefit Dinner and Regatta
DESCRIPTION:Sharp HospiceCare and Grossmont Hospital Foundation invite you to be part of the largest summertime water event on the San Diego Bay. The annual \nospospitwill be held on Friday\, Aug. 26 and Saturday\, Aug. 27. \nThe event kicks off Friday evening\, Aug. 26\, with a pre-race dinner and silent auction\, followed by all-day festivities on Saturday\, Aug. 27\, when guests will board yachts and cruise along the racecourse for a breathtaking view of the regatta and San Diego Bay. \nFor more information or the sign-up visit the Regatta webpage or contact Bill.Navrides@s​harp.com \n  \nFriday\, August 26\, 2022 \nHotel Del Coronado\, Windsor Lawn \n5pm Registration opens \n10pm Event Concludes
URL:https://coronado365.com/event/sharp-hospicecare-benefit-dinner-and-regatta-2/
LOCATION:Hotel del Coronado\, 1500 Ocean Blvd\, Coronado\, CA\, 92118\, United States
CATEGORIES:Special Event
ATTACH;FMTTYPE=image/jpeg:https://coronado365.com/wp-content/uploads/2022/08/2022-07-01-0001-scaled.jpg
END:VEVENT
BEGIN:VEVENT
DTSTART;TZID=America/Los_Angeles:20220609T170000
DTEND;TZID=America/Los_Angeles:20220609T200000
DTSTAMP:20260421T072942
CREATED:20220607T034531Z
LAST-MODIFIED:20220607T034634Z
UID:5527-1654794000-1654804800@coronado365.com
SUMMARY:Food Truck Thursday
DESCRIPTION:Thursday\, July 7th \n\nFood Truck Thursday \n\n5-8 PM @ Coronado Island Marriott\, 2000 Second Street \nJoin us on our Terrace every Thursday from 5 to 8 pm and enjoy delicious offerings from local vendors plus live music. With rotating great local food and beverage vendors\, this is a can’t-miss event.
URL:https://coronado365.com/event/food-truck-thursday/
LOCATION:coronado island marriott\, 2000 Second Street\, Coronado\, CA\, 92118\, United States
CATEGORIES:Special Event
END:VEVENT
BEGIN:VEVENT
DTSTART;TZID=America/Los_Angeles:20220705T143000
DTEND;TZID=America/Los_Angeles:20220705T180000
DTSTAMP:20260421T072942
CREATED:20220607T033822Z
LAST-MODIFIED:20220607T034902Z
UID:5524-1657031400-1657044000@coronado365.com
SUMMARY:Farmers' Market
DESCRIPTION:Farmers’ Market at Ferry Landing\n2:30-6 PM @ 1201 First Street\nCoronado Farmers’ Market is one of the longest running farmers’ markets in San Diego County. Farmers come from all over San Diego County to sell their fresh produce at the Coronado market. Find us at First and B on Tuesday afternoons.
URL:https://coronado365.com/event/farmers-market-8/
LOCATION:Coronado Ferry Landing\, 1201 1st Street\, Coronado\, 92118\, United States
END:VEVENT
BEGIN:VEVENT
DTSTART;TZID=America/Los_Angeles:20220821T170000
DTEND;TZID=America/Los_Angeles:20220821T190000
DTSTAMP:20260421T072942
CREATED:20220807T220707Z
LAST-MODIFIED:20220807T220707Z
UID:5911-1661101200-1661108400@coronado365.com
SUMMARY:Louie Cruz Beltran - Coronado Summer Concert Series
DESCRIPTION:Sunday\, August 21st \n\nLouie Cruz Beltran\, Coronado Summer Concert Series\n\n5 PM @ Spreckels Park\, 601 Orange Ave\nLouie Cruz Beltran blends Afro Cuban rhythms with R&B and Jazz\, while entertaining those with his impressive skills on the conguero and timbalero. \nhttps://coronadoconcert.com/coronado-concert-schedule/
URL:https://coronado365.com/event/louie-cruz-beltran-coronado-summer-concert-series/
CATEGORIES:Music
ATTACH;FMTTYPE=image/png:https://coronado365.com/wp-content/uploads/2022/08/band_lg_l_beltran.png
END:VEVENT
BEGIN:VEVENT
DTSTART;TZID=America/Los_Angeles:20220821T140000
DTEND;TZID=America/Los_Angeles:20220821T170000
DTSTAMP:20260421T072942
CREATED:20220814T193009Z
LAST-MODIFIED:20220814T193009Z
UID:5958-1661090400-1661101200@coronado365.com
SUMMARY:Coronado Ferry Landing Concerts - Backstage Pass
DESCRIPTION:
URL:https://coronado365.com/event/coronado-ferry-landing-concerts-backstage-pass/
LOCATION:Coronado Ferry Landing\, 1201 1st Street\, Coronado\, 92118\, United States
CATEGORIES:Music
ATTACH;FMTTYPE=image/png:https://coronado365.com/wp-content/uploads/2022/08/Coronado-Ferry-Landing-logo.png
END:VEVENT
END:VCALENDAR