BEGIN:VCALENDAR
VERSION:2.0
PRODID:-//Coronado365 - ECPv6.15.10//NONSGML v1.0//EN
CALSCALE:GREGORIAN
METHOD:PUBLISH
X-ORIGINAL-URL:https://coronado365.com
X-WR-CALDESC:Events for Coronado365
REFRESH-INTERVAL;VALUE=DURATION:PT1H
X-Robots-Tag:noindex
X-PUBLISHED-TTL:PT1H
BEGIN:VTIMEZONE
TZID:America/Los_Angeles
BEGIN:DAYLIGHT
TZOFFSETFROM:-0800
TZOFFSETTO:-0700
TZNAME:PDT
DTSTART:20210314T100000
END:DAYLIGHT
BEGIN:STANDARD
TZOFFSETFROM:-0700
TZOFFSETTO:-0800
TZNAME:PST
DTSTART:20211107T090000
END:STANDARD
BEGIN:DAYLIGHT
TZOFFSETFROM:-0800
TZOFFSETTO:-0700
TZNAME:PDT
DTSTART:20220313T100000
END:DAYLIGHT
BEGIN:STANDARD
TZOFFSETFROM:-0700
TZOFFSETTO:-0800
TZNAME:PST
DTSTART:20221106T090000
END:STANDARD
BEGIN:DAYLIGHT
TZOFFSETFROM:-0800
TZOFFSETTO:-0700
TZNAME:PDT
DTSTART:20230312T100000
END:DAYLIGHT
BEGIN:STANDARD
TZOFFSETFROM:-0700
TZOFFSETTO:-0800
TZNAME:PST
DTSTART:20231105T090000
END:STANDARD
END:VTIMEZONE
BEGIN:VEVENT
DTSTART;TZID=America/Los_Angeles:20220705T143000
DTEND;TZID=America/Los_Angeles:20220705T180000
DTSTAMP:20260421T135417
CREATED:20220607T033822Z
LAST-MODIFIED:20220607T034902Z
UID:5524-1657031400-1657044000@coronado365.com
SUMMARY:Farmers' Market
DESCRIPTION:Farmers’ Market at Ferry Landing\n2:30-6 PM @ 1201 First Street\nCoronado Farmers’ Market is one of the longest running farmers’ markets in San Diego County. Farmers come from all over San Diego County to sell their fresh produce at the Coronado market. Find us at First and B on Tuesday afternoons.
URL:https://coronado365.com/event/farmers-market-8/
LOCATION:Coronado Ferry Landing\, 1201 1st Street\, Coronado\, 92118\, United States
END:VEVENT
BEGIN:VEVENT
DTSTART;TZID=America/Los_Angeles:20220801T180000
DTEND;TZID=America/Los_Angeles:20220801T193000
DTSTAMP:20260421T135417
CREATED:20220729T200816Z
LAST-MODIFIED:20220729T213045Z
UID:5876-1659376800-1659382200@coronado365.com
SUMMARY:Friends & Flowers: Focus on Picture Boxes
DESCRIPTION:Interested in having some fun talk about flowers and design? Join the Coronado Floral Association on four summer evenings for CFA’s Monday Mixers! Invite your friends and neighbors to attend these casual\, social events. Enjoy mocktails and nibbles\, learn tips and hear stories as we highlight each tent within the Design Division of the Coronado Flower Show! 
URL:https://coronado365.com/event/friends-flowers-focus-on-picture-boxes/
LOCATION:Coronado Public Library\, 640 Orange Avenue\, Coronado\, CA\, 92118\, United States
CATEGORIES:Arts & Culture
END:VEVENT
BEGIN:VEVENT
DTSTART;TZID=America/Los_Angeles:20220731T180000
DTEND;TZID=America/Los_Angeles:20220731T200000
DTSTAMP:20260421T135417
CREATED:20220607T190417Z
LAST-MODIFIED:20220607T192106Z
UID:5594-1659290400-1659297600@coronado365.com
SUMMARY:Full Strength - Coronado Promenade Concert
DESCRIPTION:Sunday\, July 31st\nFull Strength\, Coronado Summer Concert Series\n6 PM @ Spreckels Park\, 601 Orange Ave\nWith an impressive 11 piece ensemble\, Full Strength features a full horn section blended with Latin percussion. Their playlist spans the decades of classic funk tunes\, ensuring everyone in the audience will be able to dance and sing along! \nConcerts
URL:https://coronado365.com/event/full-strength-coronado-promenade-concert/
LOCATION:Spreckels Park\, 641 Orange Avenue\, Coronado\, CA\, 92118\, United States
CATEGORIES:Music
ATTACH;FMTTYPE=image/png:https://coronado365.com/wp-content/uploads/2022/05/coronado-promenade-concerts-in-park-logo.png
END:VEVENT
BEGIN:VEVENT
DTSTART;TZID=America/Los_Angeles:20220609T170000
DTEND;TZID=America/Los_Angeles:20220609T200000
DTSTAMP:20260421T135417
CREATED:20220607T034531Z
LAST-MODIFIED:20220607T034634Z
UID:5527-1654794000-1654804800@coronado365.com
SUMMARY:Food Truck Thursday
DESCRIPTION:Thursday\, July 7th \n\nFood Truck Thursday \n\n5-8 PM @ Coronado Island Marriott\, 2000 Second Street \nJoin us on our Terrace every Thursday from 5 to 8 pm and enjoy delicious offerings from local vendors plus live music. With rotating great local food and beverage vendors\, this is a can’t-miss event.
URL:https://coronado365.com/event/food-truck-thursday/
LOCATION:coronado island marriott\, 2000 Second Street\, Coronado\, CA\, 92118\, United States
CATEGORIES:Special Event
END:VEVENT
BEGIN:VEVENT
DTSTART;TZID=America/Los_Angeles:20220728T110000
DTEND;TZID=America/Los_Angeles:20220728T120000
DTSTAMP:20260421T135417
CREATED:20220724T225519Z
LAST-MODIFIED:20220724T225519Z
UID:5852-1659006000-1659009600@coronado365.com
SUMMARY:Naval Base Coronado Quarterly Town Hall Meeting
DESCRIPTION:Join Naval Base Coronado for the quarterly town hall meeting \nWhen:      June 28 at 11am \nWhere:     Facebook Live – facebook.com/navalbasecoronado
URL:https://coronado365.com/event/naval-base-coronado-quarterly-town-hall-meeting/
CATEGORIES:Navy
END:VEVENT
BEGIN:VEVENT
DTSTART;TZID=America/Los_Angeles:20220705T143000
DTEND;TZID=America/Los_Angeles:20220705T180000
DTSTAMP:20260421T135417
CREATED:20220607T033822Z
LAST-MODIFIED:20220607T034902Z
UID:5524-1657031400-1657044000@coronado365.com
SUMMARY:Farmers' Market
DESCRIPTION:Farmers’ Market at Ferry Landing\n2:30-6 PM @ 1201 First Street\nCoronado Farmers’ Market is one of the longest running farmers’ markets in San Diego County. Farmers come from all over San Diego County to sell their fresh produce at the Coronado market. Find us at First and B on Tuesday afternoons.
URL:https://coronado365.com/event/farmers-market-8/
LOCATION:Coronado Ferry Landing\, 1201 1st Street\, Coronado\, 92118\, United States
END:VEVENT
BEGIN:VEVENT
DTSTART;TZID=America/Los_Angeles:20220724T180000
DTEND;TZID=America/Los_Angeles:20220724T200000
DTSTAMP:20260421T135417
CREATED:20220607T184626Z
LAST-MODIFIED:20220607T185117Z
UID:5589-1658685600-1658692800@coronado365.com
SUMMARY:Surf City Allstars\, Coronado Promenade Concert
DESCRIPTION:Sunday\, July 24th \n\nSurf City Allstars\, Coronado Summer Concert Series\n\n6 PM @ Spreckels Park\, 601 Orange Ave\nWith sounds so true to classics like the Beach Boys\, the Surf City Allstars will have you yearning for a cold beverage by the waves. \nhttps://coronadoconcert.com/coronado-concert-schedule/
URL:https://coronado365.com/event/5589/
LOCATION:Spreckels Park\, 641 Orange Avenue\, Coronado\, CA\, 92118\, United States
CATEGORIES:Music
END:VEVENT
BEGIN:VEVENT
DTSTART;TZID=America/Los_Angeles:20220724T160000
DTEND;TZID=America/Los_Angeles:20220724T190000
DTSTAMP:20260421T135417
CREATED:20220607T183846Z
LAST-MODIFIED:20220607T183846Z
UID:5585-1658678400-1658689200@coronado365.com
SUMMARY:Coronado Firefighters Annual Spaghetti Dinner
DESCRIPTION:The annual Coronado Firefighters Annual Spaghetti Dinner is back!   Get your dinner to take home\, eat in at the Fire Station or take it to Coronado Concert in the Park to hear the Surf City All-Stars! \nBenefits  the San Diego Burn Institute.
URL:https://coronado365.com/event/coronado-firefighters-annual-spaghetti-dinner/
LOCATION:Coronado Fire Department\, 1001 Sixth Street\, Coronado\, CA\, 92118\, United States
CATEGORIES:Special Event
ATTACH;FMTTYPE=image/jpeg:https://coronado365.com/wp-content/uploads/2022/06/CFD-logo.jpg
END:VEVENT
BEGIN:VEVENT
DTSTART;TZID=America/Los_Angeles:20220724T100000
DTEND;TZID=America/Los_Angeles:20220724T170000
DTSTAMP:20260421T135417
CREATED:20220607T184958Z
LAST-MODIFIED:20220607T184958Z
UID:5591-1658656800-1658682000@coronado365.com
SUMMARY:Art in the Park
DESCRIPTION:Art in the Park\n10 AM-5 PM @ Spreckels Park\, 601 Orange Ave\nArt in the Park features more than fifty top artists in every genre including oil\, acrylic and watercolor painting\,etching\, photography\, wood and metal working\, stained glass\, ceramics and a variety of other unusual and distinctive art forms.
URL:https://coronado365.com/event/art-in-the-park-5/
LOCATION:Spreckels Park\, 641 Orange Avenue\, Coronado\, CA\, 92118\, United States
CATEGORIES:Arts & Culture
END:VEVENT
BEGIN:VEVENT
DTSTART;TZID=America/Los_Angeles:20220609T170000
DTEND;TZID=America/Los_Angeles:20220609T200000
DTSTAMP:20260421T135417
CREATED:20220607T034531Z
LAST-MODIFIED:20220607T034634Z
UID:5527-1654794000-1654804800@coronado365.com
SUMMARY:Food Truck Thursday
DESCRIPTION:Thursday\, July 7th \n\nFood Truck Thursday \n\n5-8 PM @ Coronado Island Marriott\, 2000 Second Street \nJoin us on our Terrace every Thursday from 5 to 8 pm and enjoy delicious offerings from local vendors plus live music. With rotating great local food and beverage vendors\, this is a can’t-miss event.
URL:https://coronado365.com/event/food-truck-thursday/
LOCATION:coronado island marriott\, 2000 Second Street\, Coronado\, CA\, 92118\, United States
CATEGORIES:Special Event
END:VEVENT
BEGIN:VEVENT
DTSTART;TZID=America/Los_Angeles:20220705T143000
DTEND;TZID=America/Los_Angeles:20220705T180000
DTSTAMP:20260421T135417
CREATED:20220607T033822Z
LAST-MODIFIED:20220607T034902Z
UID:5524-1657031400-1657044000@coronado365.com
SUMMARY:Farmers' Market
DESCRIPTION:Farmers’ Market at Ferry Landing\n2:30-6 PM @ 1201 First Street\nCoronado Farmers’ Market is one of the longest running farmers’ markets in San Diego County. Farmers come from all over San Diego County to sell their fresh produce at the Coronado market. Find us at First and B on Tuesday afternoons.
URL:https://coronado365.com/event/farmers-market-8/
LOCATION:Coronado Ferry Landing\, 1201 1st Street\, Coronado\, 92118\, United States
END:VEVENT
BEGIN:VEVENT
DTSTART;TZID=America/Los_Angeles:20220717T180000
DTEND;TZID=America/Los_Angeles:20220717T200000
DTSTAMP:20260421T135417
CREATED:20220607T035818Z
LAST-MODIFIED:20220607T035818Z
UID:5579-1658080800-1658088000@coronado365.com
SUMMARY:Amanda Kate - Coronado Promenade Concert
DESCRIPTION:Sunday\, July 17th \n\nAmanda Kate\, Coronado Summer Concert Series\n\n6 PM @ Spreckels Park\, 601 Orange Ave\nFrom building her name in the Texas country music scene\, to appearing in E!’s new series “Clash of the Cover Bands”\, Amanda Kate is a force to be reckoned with. Inspired by the greats like Faith Hill and Martina McBride\, Amanda was born into country music-wait till you hear her rendition of popular Carrie Underwood hits!\nhttps://coronadoconcert.com/coronado-concert-schedule/
URL:https://coronado365.com/event/amanda-kate-coronado-promenade-concert/
LOCATION:Spreckels Park\, 641 Orange Avenue\, Coronado\, CA\, 92118\, United States
CATEGORIES:Music
END:VEVENT
BEGIN:VEVENT
DTSTART;TZID=America/Los_Angeles:20220717T140000
DTEND;TZID=America/Los_Angeles:20220717T170000
DTSTAMP:20260421T135417
CREATED:20220706T205238Z
LAST-MODIFIED:20220814T185022Z
UID:5677-1658066400-1658077200@coronado365.com
SUMMARY:Coronado Ferry Landing Weekend Concert Series - The Sickstring Outlaws
DESCRIPTION:
URL:https://coronado365.com/event/coronado-ferry-landing-weekend-concert-series/
LOCATION:Coronado Ferry Landing\, 1201 1st Street\, Coronado\, 92118\, United States
CATEGORIES:Music
END:VEVENT
BEGIN:VEVENT
DTSTART;TZID=America/Los_Angeles:20220716T140000
DTEND;TZID=America/Los_Angeles:20220716T170000
DTSTAMP:20260421T135417
CREATED:20220706T203247Z
LAST-MODIFIED:20220706T205122Z
UID:5674-1657980000-1657990800@coronado365.com
SUMMARY:Coronado Ferry Landing Weekend Concert Series - Ascape with James Wells Ford
DESCRIPTION:
URL:https://coronado365.com/event/coronado-ferry-landing-weekend-concert-series-ascape-with-james-wells-ford/
LOCATION:Coronado Ferry Landing\, 1201 1st Street\, Coronado\, 92118\, United States
CATEGORIES:Music
END:VEVENT
BEGIN:VEVENT
DTSTART;TZID=America/Los_Angeles:20220715T130000
DTEND;TZID=America/Los_Angeles:20220715T140000
DTSTAMP:20260421T135417
CREATED:20220608T185703Z
LAST-MODIFIED:20220608T185949Z
UID:5598-1657890000-1657893600@coronado365.com
SUMMARY:Summer Festival Jazz Concerts
DESCRIPTION:Join the Library for the 2022 Summer Festival Jazz Concerts. Sponsored by the Friends of the Coronado Library and Hotel Del Coronado\, concerts will take place every other Friday from June 3-August 26. Doors will open 15 minutes prior to each performance. \nOn Friday\, July 15\, San Diego lounge scenestress Erika Davies will perform jazz standards by the likes of Billie Holiday and Ella Fitzgerald or doing her version of Sinatra or Nat King Cole tunes. She’ll also showcase some original compositions in this sure to please concert.
URL:https://coronado365.com/event/5598/
LOCATION:Coronado Public Library\, 640 Orange Avenue\, Coronado\, CA\, 92118\, United States
CATEGORIES:Music
ATTACH;FMTTYPE=image/jpeg:https://coronado365.com/wp-content/uploads/2018/08/leslie-library-mural.jpg
END:VEVENT
BEGIN:VEVENT
DTSTART;TZID=America/Los_Angeles:20220609T170000
DTEND;TZID=America/Los_Angeles:20220609T200000
DTSTAMP:20260421T135417
CREATED:20220607T034531Z
LAST-MODIFIED:20220607T034634Z
UID:5527-1654794000-1654804800@coronado365.com
SUMMARY:Food Truck Thursday
DESCRIPTION:Thursday\, July 7th \n\nFood Truck Thursday \n\n5-8 PM @ Coronado Island Marriott\, 2000 Second Street \nJoin us on our Terrace every Thursday from 5 to 8 pm and enjoy delicious offerings from local vendors plus live music. With rotating great local food and beverage vendors\, this is a can’t-miss event.
URL:https://coronado365.com/event/food-truck-thursday/
LOCATION:coronado island marriott\, 2000 Second Street\, Coronado\, CA\, 92118\, United States
CATEGORIES:Special Event
END:VEVENT
BEGIN:VEVENT
DTSTART;TZID=America/Los_Angeles:20220705T143000
DTEND;TZID=America/Los_Angeles:20220705T180000
DTSTAMP:20260421T135417
CREATED:20220607T033822Z
LAST-MODIFIED:20220607T034902Z
UID:5524-1657031400-1657044000@coronado365.com
SUMMARY:Farmers' Market
DESCRIPTION:Farmers’ Market at Ferry Landing\n2:30-6 PM @ 1201 First Street\nCoronado Farmers’ Market is one of the longest running farmers’ markets in San Diego County. Farmers come from all over San Diego County to sell their fresh produce at the Coronado market. Find us at First and B on Tuesday afternoons.
URL:https://coronado365.com/event/farmers-market-8/
LOCATION:Coronado Ferry Landing\, 1201 1st Street\, Coronado\, 92118\, United States
END:VEVENT
BEGIN:VEVENT
DTSTART;TZID=America/Los_Angeles:20220711T180000
DTEND;TZID=America/Los_Angeles:20220711T193000
DTSTAMP:20260421T135417
CREATED:20220706T194426Z
LAST-MODIFIED:20220706T202110Z
UID:5667-1657562400-1657567800@coronado365.com
SUMMARY:Friends & Flowers: A Summer Series in Design
DESCRIPTION:Interested in having some fun talk about flowers and design? \nJoin us on four summer evenings for Coronado Floral Association’s Monday Mixers.  Invite your friends and neighbors to attend these casual social events.  Enjoy mocktails and nibbles\, learn tips and hear stories as we highlight each tent within the Design Division of the Coronado Flower Show.  
URL:https://coronado365.com/event/friends-flowers-a-summer-series-in-design/
LOCATION:Coronado Public Library\, 640 Orange Avenue\, Coronado\, CA\, 92118\, United States
CATEGORIES:Arts & Culture
ATTACH;FMTTYPE=image/jpeg:https://coronado365.com/wp-content/uploads/2022/04/CFA_logo_2021-2.jpg
END:VEVENT
BEGIN:VEVENT
DTSTART;TZID=America/Los_Angeles:20220710T180000
DTEND;TZID=America/Los_Angeles:20220710T200000
DTSTAMP:20260421T135417
CREATED:20220607T035545Z
LAST-MODIFIED:20220607T035545Z
UID:5576-1657476000-1657483200@coronado365.com
SUMMARY:The Sully Band-Coronado Promenade Concert
DESCRIPTION:Sunday\, July 10th \n\nThe Sully Band-Coronado Summer Concert Series\n\n6 PM @ Spreckels Park\, 601 Orange Ave\nVoted Best Live Band at the San Diego Music Awards\, this 10 piece band plays covers and originals alike all over Southern California. Fronted by Robert “Sully” Sullivan\, San Diego radio and TV personality\, this performance will not be one to miss!\nhttps://coronadoconcert.com/coronado-concert-schedule/
URL:https://coronado365.com/event/the-sully-band-coronado-promenade-concert/
LOCATION:Spreckels Park\, 641 Orange Avenue\, Coronado\, CA\, 92118\, United States
CATEGORIES:Music
END:VEVENT
BEGIN:VEVENT
DTSTART;TZID=America/Los_Angeles:20220710T140000
DTEND;TZID=America/Los_Angeles:20220710T170000
DTSTAMP:20260421T135417
CREATED:20220706T202840Z
LAST-MODIFIED:20220706T202840Z
UID:5672-1657461600-1657472400@coronado365.com
SUMMARY:Coronado Ferry Landing Weekend Concert Series - Cool Rush
DESCRIPTION:
URL:https://coronado365.com/event/coronado-ferry-landing-weekend-concert-series-cool-rush/
LOCATION:Coronado Ferry Landing\, 1201 1st Street\, Coronado\, 92118\, United States
CATEGORIES:Music
END:VEVENT
BEGIN:VEVENT
DTSTART;TZID=America/Los_Angeles:20220709T140000
DTEND;TZID=America/Los_Angeles:20220709T170000
DTSTAMP:20260421T135417
CREATED:20220706T202710Z
LAST-MODIFIED:20220706T202710Z
UID:5669-1657375200-1657386000@coronado365.com
SUMMARY:Coronado Ferry Landing Weekend Concert Series - Billy Lee and The Swamp Critters
DESCRIPTION:
URL:https://coronado365.com/event/coronado-ferry-landing-weekend-concert-series-billy-lee-and-the-swamp-critters/
LOCATION:Coronado Ferry Landing\, 1201 1st Street\, Coronado\, 92118\, United States
CATEGORIES:Music
END:VEVENT
BEGIN:VEVENT
DTSTART;TZID=America/Los_Angeles:20220609T170000
DTEND;TZID=America/Los_Angeles:20220609T200000
DTSTAMP:20260421T135417
CREATED:20220607T034531Z
LAST-MODIFIED:20220607T034634Z
UID:5527-1654794000-1654804800@coronado365.com
SUMMARY:Food Truck Thursday
DESCRIPTION:Thursday\, July 7th \n\nFood Truck Thursday \n\n5-8 PM @ Coronado Island Marriott\, 2000 Second Street \nJoin us on our Terrace every Thursday from 5 to 8 pm and enjoy delicious offerings from local vendors plus live music. With rotating great local food and beverage vendors\, this is a can’t-miss event.
URL:https://coronado365.com/event/food-truck-thursday/
LOCATION:coronado island marriott\, 2000 Second Street\, Coronado\, CA\, 92118\, United States
CATEGORIES:Special Event
END:VEVENT
BEGIN:VEVENT
DTSTART;TZID=America/Los_Angeles:20220705T160000
DTEND;TZID=America/Los_Angeles:20220705T183000
DTSTAMP:20260421T135417
CREATED:20220607T033515Z
LAST-MODIFIED:20220607T033515Z
UID:5522-1657036800-1657045800@coronado365.com
SUMMARY:Coronado City Council
DESCRIPTION:Tuesday\, July 5th\n4 PM @ Coronado Council Chamber\, 1825 Strand Way\nMeetings are broadcast live on Spectrum (Time Warner) Channel 19 the day of the meeting and rebroadcast everyday until the next scheduled meeting. The meetings are also streamed live and archived at the following link.\nhttps://coronado.12milesout.com/#page=1
URL:https://coronado365.com/event/coronado-city-council/
LOCATION:Coronado City Hall\, 1825 Strand Way\, Coronado\, CA\, 92118\, United States
CATEGORIES:City of Coronado
ATTACH;FMTTYPE=image/jpeg:https://coronado365.com/wp-content/uploads/2018/07/City-of-Coronado-logo-e1638811213646.jpg
END:VEVENT
BEGIN:VEVENT
DTSTART;TZID=America/Los_Angeles:20220705T143000
DTEND;TZID=America/Los_Angeles:20220705T180000
DTSTAMP:20260421T135417
CREATED:20220607T033822Z
LAST-MODIFIED:20220607T034902Z
UID:5524-1657031400-1657044000@coronado365.com
SUMMARY:Farmers' Market
DESCRIPTION:Farmers’ Market at Ferry Landing\n2:30-6 PM @ 1201 First Street\nCoronado Farmers’ Market is one of the longest running farmers’ markets in San Diego County. Farmers come from all over San Diego County to sell their fresh produce at the Coronado market. Find us at First and B on Tuesday afternoons.
URL:https://coronado365.com/event/farmers-market-8/
LOCATION:Coronado Ferry Landing\, 1201 1st Street\, Coronado\, 92118\, United States
END:VEVENT
BEGIN:VEVENT
DTSTART;TZID=America/Los_Angeles:20220704T060000
DTEND;TZID=America/Los_Angeles:20220704T220000
DTSTAMP:20260421T135417
CREATED:20220517T190447Z
LAST-MODIFIED:20220607T033228Z
UID:5403-1656914400-1656972000@coronado365.com
SUMMARY:Coronado 4th of July!
DESCRIPTION:Nobody does the 4th of July like Coronado! \n \n\nCoronado Fourth of July Celebration\n\ncoronadofourthofjuly.com\n73rd Annual 4th of July Parade\n\n10 AM down Orange Ave\n\n\nNavy Leap Frogs\n\n2 PM @ Location TBA\nWatch these legends of the sky take flight above Coronado! The United States Navy Parachute Team “The Leap Frogs” is the official parachute demonstration of the US Navy.\n\n\nCoronado Concert Band \n\n4 PM @ Spreckels Park\, 601 Orange Ave\n\n\nPublic Kids Concert-Katleen Douglas\n\n4 PM @ Coronado Golf Course 16th Fairway\nKatleen Douglas will be at the Coronado Golf Course to entertain children of all ages with her renditions of classic Disney songs!\n\n\nPublic Concert-Liquid Blue\n\n5 PM @ Coronado Golf Course 16th Fairway\n\n\nCoronado Fireworks Display\n\n9 PM @ Coronado Bay\nEnjoy the end of the day with a spectacular display of fireworks over the Coronado Bay!
URL:https://coronado365.com/event/coronado-4th-of-july/
CATEGORIES:Special Event
ATTACH;FMTTYPE=image/jpeg:https://coronado365.com/wp-content/uploads/2022/05/4th-of-July-Schedule2.jpg
END:VEVENT
BEGIN:VEVENT
DTSTART;TZID=America/Los_Angeles:20220703T180000
DTEND;TZID=America/Los_Angeles:20220703T200000
DTSTAMP:20260421T135417
CREATED:20220607T033011Z
LAST-MODIFIED:20220607T033131Z
UID:5519-1656871200-1656878400@coronado365.com
SUMMARY:Ron’s Garage-Coronado Promenade Concert
DESCRIPTION:Ron’s Garage-Coronado Summer Concert Series\n\n6 PM @Spreckels Park\, 601 Orange Ave\nCoronado’s own Ron’s Garage started in the early 90’s playing local establishments\, becoming a staple in the community. The quartet transports you to the best musical moments of the 60s and 70s\, as well as today’s current hits. \nhttps://coronadoconcert.com/coronado-concert-schedule/
URL:https://coronado365.com/event/rons-garage-coronado-promenade-concert/
LOCATION:Spreckels Park\, 641 Orange Avenue\, Coronado\, CA\, 92118\, United States
CATEGORIES:Music
ATTACH;FMTTYPE=image/png:https://coronado365.com/wp-content/uploads/2022/05/coronado-promenade-concerts-in-park-logo.png
END:VEVENT
BEGIN:VEVENT
DTSTART;TZID=America/Los_Angeles:20220703T100000
DTEND;TZID=America/Los_Angeles:20220703T170000
DTSTAMP:20260421T135417
CREATED:20220607T032713Z
LAST-MODIFIED:20220607T032713Z
UID:5517-1656842400-1656867600@coronado365.com
SUMMARY:Art in the Park
DESCRIPTION:Sunday\, July 3rd \n\nArt in the Park\n\n10 AM-5 PM @ Spreckels Park\, 601 Orange Ave\nArt in the Park features more than fifty top artists in every genre including oil\, acrylic and watercolor painting\,etching\, photography\, wood and metal working\, stained glass\, ceramics and a variety of other unusual and distinctive art forms.
URL:https://coronado365.com/event/art-in-the-park-2/
LOCATION:Spreckels Park\, 641 Orange Avenue\, Coronado\, CA\, 92118\, United States
CATEGORIES:Arts & Culture
END:VEVENT
BEGIN:VEVENT
DTSTART;TZID=America/Los_Angeles:20220702T180000
DTEND;TZID=America/Los_Angeles:20220702T190000
DTSTAMP:20260421T135417
CREATED:20220702T050851Z
LAST-MODIFIED:20220702T050851Z
UID:5630-1656784800-1656788400@coronado365.com
SUMMARY:Circumnavigation
DESCRIPTION:A favorite event around the 4th of July holiday\, Circumnavigation will be on July 2nd this year at 6:00pm\, beginning at Star Park.  Be safe and have fun!!!
URL:https://coronado365.com/event/circumnavigation/
CATEGORIES:Special Event
END:VEVENT
BEGIN:VEVENT
DTSTART;TZID=America/Los_Angeles:20220701T130000
DTEND;TZID=America/Los_Angeles:20220701T143000
DTSTAMP:20260421T135417
CREATED:20220607T032452Z
LAST-MODIFIED:20220607T032452Z
UID:5515-1656680400-1656685800@coronado365.com
SUMMARY:Summer Festival Jazz Concert Series featuring the Garners
DESCRIPTION:Summer Festival Jazz Concert Series featuring the Garners\n\n1 PM @ Coronado Library Winn Room\, 640 Orange Ave\nThe Garners are a modern vintage duo that embraces jazz\, blues and folk. \nhttps://coronado.librarycalendar.com/
URL:https://coronado365.com/event/summer-festival-jazz-concert-series-featuring-the-garners/
LOCATION:Coronado Public Library\, 640 Orange Avenue\, Coronado\, CA\, 92118\, United States
CATEGORIES:Music
END:VEVENT
BEGIN:VEVENT
DTSTART;TZID=America/Los_Angeles:20220609T170000
DTEND;TZID=America/Los_Angeles:20220609T200000
DTSTAMP:20260421T135417
CREATED:20220607T034531Z
LAST-MODIFIED:20220607T034634Z
UID:5527-1654794000-1654804800@coronado365.com
SUMMARY:Food Truck Thursday
DESCRIPTION:Thursday\, July 7th \n\nFood Truck Thursday \n\n5-8 PM @ Coronado Island Marriott\, 2000 Second Street \nJoin us on our Terrace every Thursday from 5 to 8 pm and enjoy delicious offerings from local vendors plus live music. With rotating great local food and beverage vendors\, this is a can’t-miss event.
URL:https://coronado365.com/event/food-truck-thursday/
LOCATION:coronado island marriott\, 2000 Second Street\, Coronado\, CA\, 92118\, United States
CATEGORIES:Special Event
END:VEVENT
END:VCALENDAR