BEGIN:VCALENDAR
VERSION:2.0
PRODID:-//Coronado365 - ECPv6.15.10//NONSGML v1.0//EN
CALSCALE:GREGORIAN
METHOD:PUBLISH
X-ORIGINAL-URL:https://coronado365.com
X-WR-CALDESC:Events for Coronado365
REFRESH-INTERVAL;VALUE=DURATION:PT1H
X-Robots-Tag:noindex
X-PUBLISHED-TTL:PT1H
BEGIN:VTIMEZONE
TZID:America/Los_Angeles
BEGIN:DAYLIGHT
TZOFFSETFROM:-0800
TZOFFSETTO:-0700
TZNAME:PDT
DTSTART:20210314T100000
END:DAYLIGHT
BEGIN:STANDARD
TZOFFSETFROM:-0700
TZOFFSETTO:-0800
TZNAME:PST
DTSTART:20211107T090000
END:STANDARD
BEGIN:DAYLIGHT
TZOFFSETFROM:-0800
TZOFFSETTO:-0700
TZNAME:PDT
DTSTART:20220313T100000
END:DAYLIGHT
BEGIN:STANDARD
TZOFFSETFROM:-0700
TZOFFSETTO:-0800
TZNAME:PST
DTSTART:20221106T090000
END:STANDARD
BEGIN:DAYLIGHT
TZOFFSETFROM:-0800
TZOFFSETTO:-0700
TZNAME:PDT
DTSTART:20230312T100000
END:DAYLIGHT
BEGIN:STANDARD
TZOFFSETFROM:-0700
TZOFFSETTO:-0800
TZNAME:PST
DTSTART:20231105T090000
END:STANDARD
END:VTIMEZONE
BEGIN:VEVENT
DTSTART;TZID=America/Los_Angeles:20220515T100000
DTEND;TZID=America/Los_Angeles:20220515T170000
DTSTAMP:20260425T212223
CREATED:20220509T235521Z
LAST-MODIFIED:20220509T235521Z
UID:5259-1652608800-1652634000@coronado365.com
SUMMARY:Art in the Park
DESCRIPTION:Sunday\, May 15th \nArt in the Park \n10 AM-5 PM @ Spreckels Park\, 601 Orange Ave \nArt in the Park features more than fifty top artists in every genre including oil\, acrylic and watercolor painting\,etching\, photography\, wood and metal working\, stained glass\, ceramics and a variety of other unusual and distinctive art forms.
URL:https://coronado365.com/event/art-in-the-park/
LOCATION:CA
CATEGORIES:Special Event
END:VEVENT
END:VCALENDAR