BEGIN:VCALENDAR
VERSION:2.0
PRODID:-//Coronado365 - ECPv6.15.10//NONSGML v1.0//EN
CALSCALE:GREGORIAN
METHOD:PUBLISH
X-WR-CALNAME:Coronado365
X-ORIGINAL-URL:https://coronado365.com
X-WR-CALDESC:Events for Coronado365
REFRESH-INTERVAL;VALUE=DURATION:PT1H
X-Robots-Tag:noindex
X-PUBLISHED-TTL:PT1H
BEGIN:VTIMEZONE
TZID:America/Los_Angeles
BEGIN:DAYLIGHT
TZOFFSETFROM:-0800
TZOFFSETTO:-0700
TZNAME:PDT
DTSTART:20210314T100000
END:DAYLIGHT
BEGIN:STANDARD
TZOFFSETFROM:-0700
TZOFFSETTO:-0800
TZNAME:PST
DTSTART:20211107T090000
END:STANDARD
BEGIN:DAYLIGHT
TZOFFSETFROM:-0800
TZOFFSETTO:-0700
TZNAME:PDT
DTSTART:20220313T100000
END:DAYLIGHT
BEGIN:STANDARD
TZOFFSETFROM:-0700
TZOFFSETTO:-0800
TZNAME:PST
DTSTART:20221106T090000
END:STANDARD
BEGIN:DAYLIGHT
TZOFFSETFROM:-0800
TZOFFSETTO:-0700
TZNAME:PDT
DTSTART:20230312T100000
END:DAYLIGHT
BEGIN:STANDARD
TZOFFSETFROM:-0700
TZOFFSETTO:-0800
TZNAME:PST
DTSTART:20231105T090000
END:STANDARD
END:VTIMEZONE
BEGIN:VEVENT
DTSTART;TZID=America/Los_Angeles:20220828T070000
DTEND;TZID=America/Los_Angeles:20220828T110000
DTSTAMP:20260423T221947
CREATED:20220807T221244Z
LAST-MODIFIED:20220807T221244Z
UID:5918-1661670000-1661684400@coronado365.com
SUMMARY:Bike The Bay
DESCRIPTION:Bike the Bay\n\n7 AM @ Embarcadero Marina Park South\, 200 Marina Park Way\nDon’t miss this chance to bike across the Coronado Bridge and around the bay!\nhttps://events.com/r/en_US/registration/15th-annual-bike-the-bay-san-diego-august-816772?fbclid=IwAR1Gh9iZdyDOi2FUNaU4MZiWbL3Ghf9qMfuaqjgiE2Z0fTLCTn5EZVBA62M
URL:https://coronado365.com/event/bike-the-bay/
CATEGORIES:Special Event
ATTACH;FMTTYPE=image/jpeg:https://coronado365.com/wp-content/uploads/2022/08/BTB_Logo_Rec_B1.jpg
END:VEVENT
END:VCALENDAR