BEGIN:VCALENDAR
VERSION:2.0
PRODID:-//Coronado365 - ECPv6.15.10//NONSGML v1.0//EN
CALSCALE:GREGORIAN
METHOD:PUBLISH
X-ORIGINAL-URL:https://coronado365.com
X-WR-CALDESC:Events for Coronado365
REFRESH-INTERVAL;VALUE=DURATION:PT1H
X-Robots-Tag:noindex
X-PUBLISHED-TTL:PT1H
BEGIN:VTIMEZONE
TZID:America/Los_Angeles
BEGIN:DAYLIGHT
TZOFFSETFROM:-0800
TZOFFSETTO:-0700
TZNAME:PDT
DTSTART:20210314T100000
END:DAYLIGHT
BEGIN:STANDARD
TZOFFSETFROM:-0700
TZOFFSETTO:-0800
TZNAME:PST
DTSTART:20211107T090000
END:STANDARD
BEGIN:DAYLIGHT
TZOFFSETFROM:-0800
TZOFFSETTO:-0700
TZNAME:PDT
DTSTART:20220313T100000
END:DAYLIGHT
BEGIN:STANDARD
TZOFFSETFROM:-0700
TZOFFSETTO:-0800
TZNAME:PST
DTSTART:20221106T090000
END:STANDARD
BEGIN:DAYLIGHT
TZOFFSETFROM:-0800
TZOFFSETTO:-0700
TZNAME:PDT
DTSTART:20230312T100000
END:DAYLIGHT
BEGIN:STANDARD
TZOFFSETFROM:-0700
TZOFFSETTO:-0800
TZNAME:PST
DTSTART:20231105T090000
END:STANDARD
END:VTIMEZONE
BEGIN:VEVENT
DTSTART;VALUE=DATE:20220516
DTEND;VALUE=DATE:20220521
DTSTAMP:20260423T211948
CREATED:20220513T032606Z
LAST-MODIFIED:20220513T151708Z
UID:5335-1652659200-1653091199@coronado365.com
SUMMARY:Bulky Trash Pickup - May 16-20
DESCRIPTION:Traditional Curbside Collection on Regularly Scheduled Residential Service Day: May 16 – 20\, 2022 \nEDCO’s Coronado Community Cleanup Event gives residents an opportunity to place unwanted bulk items curbside that are too large or heavy to put inside collection carts\, such as broken appliances\, water heaters\, furniture\, old mattresses (please wrap mattresses prior to setting out – special mattress disposal bags can be purchased at hardware stores or on their websites)\, and other miscellaneous bulky household clutter.  \nAll yard waste will be recycled and must be bagged or bundled. Tree trimmings should be cut into 3’ lengths and tied securely into bundles not greater than 18” in diameter. Debris from contractors\, landscapers or commercial businesses will NOT be accepted. No Hazardous Waste Accepted. \nThis year’s cleanup will take place the week of May 16th – 20th on your regularly scheduled residential curbside collection day (please put items out on the curb with your regular collection carts by 6 a.m.). \nFREE MULCH! Once again EDCO will have mulch available for self-load/self-haul at the corner of A Avenue and 2nd Street\, by the Little League field\, for Coronado residents only. Come early and bring a shovel to get your compost while it lasts! If you plan to haul your compost in an open truck or trailer\, please remember to bring a tarp to cover your material.
URL:https://coronado365.com/event/bulky-trash-pickup-may-16-20/
CATEGORIES:City of Coronado
END:VEVENT
END:VCALENDAR