BEGIN:VCALENDAR
VERSION:2.0
PRODID:-//Coronado365 - ECPv6.15.10//NONSGML v1.0//EN
CALSCALE:GREGORIAN
METHOD:PUBLISH
X-WR-CALNAME:Coronado365
X-ORIGINAL-URL:https://coronado365.com
X-WR-CALDESC:Events for Coronado365
REFRESH-INTERVAL;VALUE=DURATION:PT1H
X-Robots-Tag:noindex
X-PUBLISHED-TTL:PT1H
BEGIN:VTIMEZONE
TZID:America/Los_Angeles
BEGIN:DAYLIGHT
TZOFFSETFROM:-0800
TZOFFSETTO:-0700
TZNAME:PDT
DTSTART:20210314T100000
END:DAYLIGHT
BEGIN:STANDARD
TZOFFSETFROM:-0700
TZOFFSETTO:-0800
TZNAME:PST
DTSTART:20211107T090000
END:STANDARD
BEGIN:DAYLIGHT
TZOFFSETFROM:-0800
TZOFFSETTO:-0700
TZNAME:PDT
DTSTART:20220313T100000
END:DAYLIGHT
BEGIN:STANDARD
TZOFFSETFROM:-0700
TZOFFSETTO:-0800
TZNAME:PST
DTSTART:20221106T090000
END:STANDARD
BEGIN:DAYLIGHT
TZOFFSETFROM:-0800
TZOFFSETTO:-0700
TZNAME:PDT
DTSTART:20230312T100000
END:DAYLIGHT
BEGIN:STANDARD
TZOFFSETFROM:-0700
TZOFFSETTO:-0800
TZNAME:PST
DTSTART:20231105T090000
END:STANDARD
END:VTIMEZONE
BEGIN:VEVENT
DTSTART;TZID=America/Los_Angeles:20221017T080000
DTEND;TZID=America/Los_Angeles:20221021T170000
DTSTAMP:20260423T142138
CREATED:20221006T222955Z
LAST-MODIFIED:20221006T222955Z
UID:6187-1665993600-1666371600@coronado365.com
SUMMARY:Bulky Trash Curbside Collection: October 17-21\, 2022
DESCRIPTION:Bulky Trash Curbside Collection: October 17-21\, 2022\nThis Community Cleanup event gives residents an opportunity to place unwanted bulk items curbside that are too large or heavy to put inside collection carts.  Community Cleanup Week is scheduled twice a year\, once in the Spring and once in the Fall\, and will occur on residents’ regularly scheduled residential curbside collection days. Place unwanted bulk items on the curb along with your regular carts by 6:00 a.m.  No hazardous waste will be accepted.  \nBulky trash items typically include broken appliances\, water heaters\, furniture\, old mattresses (please wrap mattresses prior to setting out special mattress disposal bags can be purchased at hardware stores or online)\, yard waste\, and other miscellaneous bulky household items. All yard waste will be recycled and must be bagged or bundled. Tree trimmings should be cut into 3-foot lengths and tied securely into bundles not greater than 18 inches in diameter.
URL:https://coronado365.com/event/bulky-trash-curbside-collection-october-17-21-2022/
CATEGORIES:City of Coronado
END:VEVENT
END:VCALENDAR