BEGIN:VCALENDAR
VERSION:2.0
PRODID:-//Coronado365 - ECPv6.15.10//NONSGML v1.0//EN
CALSCALE:GREGORIAN
METHOD:PUBLISH
X-ORIGINAL-URL:https://coronado365.com
X-WR-CALDESC:Events for Coronado365
REFRESH-INTERVAL;VALUE=DURATION:PT1H
X-Robots-Tag:noindex
X-PUBLISHED-TTL:PT1H
BEGIN:VTIMEZONE
TZID:America/Los_Angeles
BEGIN:DAYLIGHT
TZOFFSETFROM:-0800
TZOFFSETTO:-0700
TZNAME:PDT
DTSTART:20210314T100000
END:DAYLIGHT
BEGIN:STANDARD
TZOFFSETFROM:-0700
TZOFFSETTO:-0800
TZNAME:PST
DTSTART:20211107T090000
END:STANDARD
BEGIN:DAYLIGHT
TZOFFSETFROM:-0800
TZOFFSETTO:-0700
TZNAME:PDT
DTSTART:20220313T100000
END:DAYLIGHT
BEGIN:STANDARD
TZOFFSETFROM:-0700
TZOFFSETTO:-0800
TZNAME:PST
DTSTART:20221106T090000
END:STANDARD
BEGIN:DAYLIGHT
TZOFFSETFROM:-0800
TZOFFSETTO:-0700
TZNAME:PDT
DTSTART:20230312T100000
END:DAYLIGHT
BEGIN:STANDARD
TZOFFSETFROM:-0700
TZOFFSETTO:-0800
TZNAME:PST
DTSTART:20231105T090000
END:STANDARD
END:VTIMEZONE
BEGIN:VEVENT
DTSTART;TZID=America/Los_Angeles:20221202T180000
DTEND;TZID=America/Los_Angeles:20221202T203000
DTSTAMP:20260423T074608
CREATED:20221202T052428Z
LAST-MODIFIED:20221202T123401Z
UID:7153-1670004000-1670013000@coronado365.com
SUMMARY:Coronado Holiday Parade
DESCRIPTION:The Holiday Parade is a long standing Coronado Tradition that is sure to be a great kick-off to the month of December!\n\nJoin us in holiday cheer from the Ferry Landing\, down Orange Avenue\, all the way to the Hotel del Coronado on Friday\, December 2nd for …\n\nLive music\nLocal business open house\nHoliday sing-Alongs\n& Parade featuring local organizations\, clubs\, and businesses with lights\, costumes and more!\nThis is a momentous year as the Rotary Park Tree is going to be shining brighter than ever! \nThe Star Pine was planted in 1936 and over 85 years later\, it is still the focal point of the Holiday Season in Coronado.\n\nIn a collaboration between the City of Coronado\, Discover Coronado\, Coronado MainStreet & the Coronado Chamber\, the 85 foot tall tree will be donned with 12\,000 linear feet of lights! You won’t want to miss out on the celebrations around town!
URL:https://coronado365.com/event/coronado-holiday-parade/
LOCATION:Orange Avenue\, Coronado\, CA\, 92118\, United States
CATEGORIES:Special Event
ORGANIZER;CN="coronado chamber of commerce":MAILTO:kerri@coronadochamber.com
END:VEVENT
END:VCALENDAR