BEGIN:VCALENDAR
VERSION:2.0
PRODID:-//Coronado365 - ECPv6.15.10//NONSGML v1.0//EN
CALSCALE:GREGORIAN
METHOD:PUBLISH
X-WR-CALNAME:Coronado365
X-ORIGINAL-URL:https://coronado365.com
X-WR-CALDESC:Events for Coronado365
REFRESH-INTERVAL;VALUE=DURATION:PT1H
X-Robots-Tag:noindex
X-PUBLISHED-TTL:PT1H
BEGIN:VTIMEZONE
TZID:America/Los_Angeles
BEGIN:DAYLIGHT
TZOFFSETFROM:-0800
TZOFFSETTO:-0700
TZNAME:PDT
DTSTART:20210314T100000
END:DAYLIGHT
BEGIN:STANDARD
TZOFFSETFROM:-0700
TZOFFSETTO:-0800
TZNAME:PST
DTSTART:20211107T090000
END:STANDARD
BEGIN:DAYLIGHT
TZOFFSETFROM:-0800
TZOFFSETTO:-0700
TZNAME:PDT
DTSTART:20220313T100000
END:DAYLIGHT
BEGIN:STANDARD
TZOFFSETFROM:-0700
TZOFFSETTO:-0800
TZNAME:PST
DTSTART:20221106T090000
END:STANDARD
BEGIN:DAYLIGHT
TZOFFSETFROM:-0800
TZOFFSETTO:-0700
TZNAME:PDT
DTSTART:20230312T100000
END:DAYLIGHT
BEGIN:STANDARD
TZOFFSETFROM:-0700
TZOFFSETTO:-0800
TZNAME:PST
DTSTART:20231105T090000
END:STANDARD
END:VTIMEZONE
BEGIN:VEVENT
DTSTART;TZID=America/Los_Angeles:20221008T130000
DTEND;TZID=America/Los_Angeles:20221008T150000
DTSTAMP:20260423T022632
CREATED:20220822T041032Z
LAST-MODIFIED:20220822T041032Z
UID:6008-1665234000-1665241200@coronado365.com
SUMMARY:CHS Football - Home Game
DESCRIPTION:
URL:https://coronado365.com/event/chs-football-home-game-3/
LOCATION:CHS Niedermeyer Field\, 701 Seventh Street\, Coronado\, CA\, 92118\, United States
CATEGORIES:Youth & Schools
END:VEVENT
BEGIN:VEVENT
DTSTART;TZID=America/Los_Angeles:20221014T190000
DTEND;TZID=America/Los_Angeles:20221014T213000
DTSTAMP:20260423T022632
CREATED:20220822T041253Z
LAST-MODIFIED:20220822T041253Z
UID:6010-1665774000-1665783000@coronado365.com
SUMMARY:CHS Football - Homecoming Game
DESCRIPTION:
URL:https://coronado365.com/event/chs-football-homecoming-game/
LOCATION:CHS Niedermeyer Field\, 701 Seventh Street\, Coronado\, CA\, 92118\, United States
CATEGORIES:Youth & Schools
END:VEVENT
END:VCALENDAR