BEGIN:VCALENDAR
VERSION:2.0
PRODID:-//Coronado365 - ECPv6.15.10//NONSGML v1.0//EN
CALSCALE:GREGORIAN
METHOD:PUBLISH
X-ORIGINAL-URL:https://coronado365.com
X-WR-CALDESC:Events for Coronado365
REFRESH-INTERVAL;VALUE=DURATION:PT1H
X-Robots-Tag:noindex
X-PUBLISHED-TTL:PT1H
BEGIN:VTIMEZONE
TZID:America/Los_Angeles
BEGIN:DAYLIGHT
TZOFFSETFROM:-0800
TZOFFSETTO:-0700
TZNAME:PDT
DTSTART:20210314T100000
END:DAYLIGHT
BEGIN:STANDARD
TZOFFSETFROM:-0700
TZOFFSETTO:-0800
TZNAME:PST
DTSTART:20211107T090000
END:STANDARD
BEGIN:DAYLIGHT
TZOFFSETFROM:-0800
TZOFFSETTO:-0700
TZNAME:PDT
DTSTART:20220313T100000
END:DAYLIGHT
BEGIN:STANDARD
TZOFFSETFROM:-0700
TZOFFSETTO:-0800
TZNAME:PST
DTSTART:20221106T090000
END:STANDARD
BEGIN:DAYLIGHT
TZOFFSETFROM:-0800
TZOFFSETTO:-0700
TZNAME:PDT
DTSTART:20230312T100000
END:DAYLIGHT
BEGIN:STANDARD
TZOFFSETFROM:-0700
TZOFFSETTO:-0800
TZNAME:PST
DTSTART:20231105T090000
END:STANDARD
END:VTIMEZONE
BEGIN:VEVENT
DTSTART;TZID=America/Los_Angeles:20220817T180000
DTEND;TZID=America/Los_Angeles:20220817T193000
DTSTAMP:20260425T184509
CREATED:20220816T042531Z
LAST-MODIFIED:20220816T042531Z
UID:5995-1660759200-1660764600@coronado365.com
SUMMARY:Artist Talk - Kathleen McCabe
DESCRIPTION:The Cultural Arts Commission and the John D. Spreckels Center announce the next exhibition in the Spreckels Gallery “Stitched Together\,” a show featuring local fiber artists Ann Goodfellow\, Sandy Barkhurst\, Candace Tyler and the work of the late Marilynn Crehore. The opening reception is free and open to the public and will include a presentation by Kathleen McCabe whose work is also displayed in the facility entrance.\n\n\n\n\n\n\n\n\n\n\n\nArtist talk by Coronado quilt artist\nKATHLEEN McCABE\n“My Life in Art Quilts”\n\nWednesday\, August 17 at 6 p.m.\n\n\n\n\n\nOpening reception is Free and open to the public\, Refreshments provided \nExhibit lasts from August 17-December 15 \nJohn D. Spreckels Center\, 1019 7th Street
URL:https://coronado365.com/event/artist-talk-kathleen-mccabe/
CATEGORIES:Arts & Culture
ATTACH;FMTTYPE=image/jpeg:https://coronado365.com/wp-content/uploads/2022/07/Coronado365_Cover_July2022-scaled.jpg
END:VEVENT
END:VCALENDAR