BEGIN:VCALENDAR
VERSION:2.0
PRODID:-//Coronado365 - ECPv6.15.10//NONSGML v1.0//EN
CALSCALE:GREGORIAN
METHOD:PUBLISH
X-ORIGINAL-URL:https://coronado365.com
X-WR-CALDESC:Events for Coronado365
REFRESH-INTERVAL;VALUE=DURATION:PT1H
X-Robots-Tag:noindex
X-PUBLISHED-TTL:PT1H
BEGIN:VTIMEZONE
TZID:America/Los_Angeles
BEGIN:DAYLIGHT
TZOFFSETFROM:-0800
TZOFFSETTO:-0700
TZNAME:PDT
DTSTART:20210314T100000
END:DAYLIGHT
BEGIN:STANDARD
TZOFFSETFROM:-0700
TZOFFSETTO:-0800
TZNAME:PST
DTSTART:20211107T090000
END:STANDARD
BEGIN:DAYLIGHT
TZOFFSETFROM:-0800
TZOFFSETTO:-0700
TZNAME:PDT
DTSTART:20220313T100000
END:DAYLIGHT
BEGIN:STANDARD
TZOFFSETFROM:-0700
TZOFFSETTO:-0800
TZNAME:PST
DTSTART:20221106T090000
END:STANDARD
BEGIN:DAYLIGHT
TZOFFSETFROM:-0800
TZOFFSETTO:-0700
TZNAME:PDT
DTSTART:20230312T100000
END:DAYLIGHT
BEGIN:STANDARD
TZOFFSETFROM:-0700
TZOFFSETTO:-0800
TZNAME:PST
DTSTART:20231105T090000
END:STANDARD
END:VTIMEZONE
BEGIN:VEVENT
DTSTART;TZID=America/Los_Angeles:20220510T143000
DTEND;TZID=America/Los_Angeles:20220510T180000
DTSTAMP:20260422T061655
CREATED:20220509T235255Z
LAST-MODIFIED:20220509T235326Z
UID:5257-1652193000-1652205600@coronado365.com
SUMMARY:Farmers' Market
DESCRIPTION:Farmers’ Market at Ferry Landing \n2:30-6 PM @ 1201 First Street \nCoronado Farmers’ Market is one of the longest running farmers’ markets in San Diego County. Farmers come from all over San Diego County to sell their fresh produce at the Coronado market. Find us at First and B on Tuesday afternoons.
URL:https://coronado365.com/event/farmers-market/
CATEGORIES:Special Event
END:VEVENT
BEGIN:VEVENT
DTSTART;TZID=America/Los_Angeles:20220517T143000
DTEND;TZID=America/Los_Angeles:20220517T180000
DTSTAMP:20260422T061655
CREATED:20220510T000128Z
LAST-MODIFIED:20220510T000128Z
UID:5263-1652797800-1652810400@coronado365.com
SUMMARY:Farmer's Market
DESCRIPTION:Farmers’ Market at Ferry Landing \n2:30-6 PM @ 1201 First Street \nCoronado Farmers’ Market is one of the longest running farmers’ markets in San Diego County. Farmers come from all over San Diego County to sell their fresh produce at the Coronado market. Find us at First and B on Tuesday afternoons.
URL:https://coronado365.com/event/farmers-market-2/
CATEGORIES:Special Event
END:VEVENT
BEGIN:VEVENT
DTSTART;TZID=America/Los_Angeles:20220524T143000
DTEND;TZID=America/Los_Angeles:20220524T180000
DTSTAMP:20260422T061655
CREATED:20220510T002007Z
LAST-MODIFIED:20220510T002007Z
UID:5278-1653402600-1653415200@coronado365.com
SUMMARY:Farmers’ Market at Ferry Landing
DESCRIPTION:Tuesday\, May 24th \nFarmers’ Market at Ferry Landing \n2:30-6 PM @ 1201 First Street \nCoronado Farmers’ Market is one of the longest running farmers’ markets in San Diego County. Farmers come from all over San Diego County to sell their fresh produce at the Coronado market. Find us at First and B on Tuesday afternoons.
URL:https://coronado365.com/event/farmers-market-at-ferry-landing/
CATEGORIES:Special Event
END:VEVENT
BEGIN:VEVENT
DTSTART;TZID=America/Los_Angeles:20220531T143000
DTEND;TZID=America/Los_Angeles:20220531T180000
DTSTAMP:20260422T061655
CREATED:20220510T050236Z
LAST-MODIFIED:20220510T050236Z
UID:5285-1654007400-1654020000@coronado365.com
SUMMARY:Farmers Market
DESCRIPTION:Tuesday\, May 31st \nFarmers’ Market at Ferry Landing \n2:30-6 PM @ 1201 First Street \nCoronado Farmers’ Market is one of the longest running farmers’ markets in San Diego County. Farmers come from all over San Diego County to sell their fresh produce at the Coronado market. Find us at First and B on Tuesday afternoons.
URL:https://coronado365.com/event/farmers-market-3/
LOCATION:Coronado Ferry Landing\, 1201 1st Street\, Coronado\, 92118\, United States
CATEGORIES:Special Event
END:VEVENT
END:VCALENDAR