BEGIN:VCALENDAR
VERSION:2.0
PRODID:-//Coronado365 - ECPv6.15.10//NONSGML v1.0//EN
CALSCALE:GREGORIAN
METHOD:PUBLISH
X-WR-CALNAME:Coronado365
X-ORIGINAL-URL:https://coronado365.com
X-WR-CALDESC:Events for Coronado365
REFRESH-INTERVAL;VALUE=DURATION:PT1H
X-Robots-Tag:noindex
X-PUBLISHED-TTL:PT1H
BEGIN:VTIMEZONE
TZID:America/Los_Angeles
BEGIN:DAYLIGHT
TZOFFSETFROM:-0800
TZOFFSETTO:-0700
TZNAME:PDT
DTSTART:20210314T100000
END:DAYLIGHT
BEGIN:STANDARD
TZOFFSETFROM:-0700
TZOFFSETTO:-0800
TZNAME:PST
DTSTART:20211107T090000
END:STANDARD
BEGIN:DAYLIGHT
TZOFFSETFROM:-0800
TZOFFSETTO:-0700
TZNAME:PDT
DTSTART:20220313T100000
END:DAYLIGHT
BEGIN:STANDARD
TZOFFSETFROM:-0700
TZOFFSETTO:-0800
TZNAME:PST
DTSTART:20221106T090000
END:STANDARD
BEGIN:DAYLIGHT
TZOFFSETFROM:-0800
TZOFFSETTO:-0700
TZNAME:PDT
DTSTART:20230312T100000
END:DAYLIGHT
BEGIN:STANDARD
TZOFFSETFROM:-0700
TZOFFSETTO:-0800
TZNAME:PST
DTSTART:20231105T090000
END:STANDARD
END:VTIMEZONE
BEGIN:VEVENT
DTSTART;TZID=America/Los_Angeles:20220607T143000
DTEND;TZID=America/Los_Angeles:20220607T180000
DTSTAMP:20260422T043716
CREATED:20220511T022315Z
LAST-MODIFIED:20220511T022315Z
UID:5298-1654612200-1654624800@coronado365.com
SUMMARY:Farmers Market
DESCRIPTION:Farmers’ Market at Ferry Landing \n2:30-6 PM @ 1201 First Street \nCoronado Farmers’ Market is one of the longest running farmers’ markets in San Diego County. Farmers come from all over San Diego County to sell their fresh produce at the Coronado market. \nFind us at First and B on Tuesday afternoons.
URL:https://coronado365.com/event/farmers-market-4/
CATEGORIES:Special Event
END:VEVENT
BEGIN:VEVENT
DTSTART;TZID=America/Los_Angeles:20220614T143000
DTEND;TZID=America/Los_Angeles:20220614T180000
DTSTAMP:20260422T043716
CREATED:20220511T024612Z
LAST-MODIFIED:20220511T024956Z
UID:5305-1655217000-1655229600@coronado365.com
SUMMARY:Farmer's Market
DESCRIPTION:Tuesday\, June 14th \nFarmers’ Market at Ferry Landing \n2:30-6 PM @ 1201 First Street \nCoronado Farmers’ Market is one of the longest running farmers’ markets in San Diego County. Farmers come from all over San Diego County to sell their fresh produce at the Coronado market. Find us at First and B on Tuesday afternoons.
URL:https://coronado365.com/event/farmers-market-5/
LOCATION:Coronado Ferry Landing\, 1201 1st Street\, Coronado\, 92118\, United States
CATEGORIES:Special Event
END:VEVENT
BEGIN:VEVENT
DTSTART;TZID=America/Los_Angeles:20220628T143000
DTEND;TZID=America/Los_Angeles:20220628T180000
DTSTAMP:20260422T043716
CREATED:20220511T033141Z
LAST-MODIFIED:20220511T033229Z
UID:5316-1656426600-1656439200@coronado365.com
SUMMARY:Farmer's Market
DESCRIPTION:Tuesday\, June 28th \nFarmers’ Market at Ferry Landing \n2:30-6 PM @ 1201 First Street \nCoronado Farmers’ Market is one of the longest running farmers’ markets in San Diego County. Farmers come from all over San Diego County to sell their fresh produce at the Coronado market. Find us at First and B on Tuesday afternoons.
URL:https://coronado365.com/event/farmers-market-7/
LOCATION:Coronado Ferry Landing\, 1201 1st Street\, Coronado\, 92118\, United States
CATEGORIES:Special Event
END:VEVENT
END:VCALENDAR