BEGIN:VCALENDAR
VERSION:2.0
PRODID:-//Coronado365 - ECPv6.15.10//NONSGML v1.0//EN
CALSCALE:GREGORIAN
METHOD:PUBLISH
X-ORIGINAL-URL:https://coronado365.com
X-WR-CALDESC:Events for Coronado365
REFRESH-INTERVAL;VALUE=DURATION:PT1H
X-Robots-Tag:noindex
X-PUBLISHED-TTL:PT1H
BEGIN:VTIMEZONE
TZID:America/Los_Angeles
BEGIN:DAYLIGHT
TZOFFSETFROM:-0800
TZOFFSETTO:-0700
TZNAME:PDT
DTSTART:20210314T100000
END:DAYLIGHT
BEGIN:STANDARD
TZOFFSETFROM:-0700
TZOFFSETTO:-0800
TZNAME:PST
DTSTART:20211107T090000
END:STANDARD
BEGIN:DAYLIGHT
TZOFFSETFROM:-0800
TZOFFSETTO:-0700
TZNAME:PDT
DTSTART:20220313T100000
END:DAYLIGHT
BEGIN:STANDARD
TZOFFSETFROM:-0700
TZOFFSETTO:-0800
TZNAME:PST
DTSTART:20221106T090000
END:STANDARD
BEGIN:DAYLIGHT
TZOFFSETFROM:-0800
TZOFFSETTO:-0700
TZNAME:PDT
DTSTART:20230312T100000
END:DAYLIGHT
BEGIN:STANDARD
TZOFFSETFROM:-0700
TZOFFSETTO:-0800
TZNAME:PST
DTSTART:20231105T090000
END:STANDARD
END:VTIMEZONE
BEGIN:VEVENT
DTSTART;TZID=America/Los_Angeles:20221002T100000
DTEND;TZID=America/Los_Angeles:20221002T140000
DTSTAMP:20260423T022622
CREATED:20220913T232550Z
LAST-MODIFIED:20220913T233820Z
UID:6074-1664704800-1664719200@coronado365.com
SUMMARY:Make-A-Wish Amazing Race
DESCRIPTION:The 13th annual Amazing Race for Childrens’ Wishes benefitting Make-A-Wish Foundation San Diego will be held on Sunday\, October 2\, 2022. \nNet proceeds benefit Make-A-Wish San Diego\, a registered 501(c)(3) non-profit organization which grants the wishes of children with critical illnesses.  All donations are tax-deductible. \nRegistration:  site.wish.org/amazingrace \nDescription: Organized by the Coronado\, Coronado Cays\, and Navy Yacht Clubs\, this day of adventure is modeled after the TV show “The Amazing Race”\, with a variety of team challenges on both bikes and boats followed by a great party with awesome raffle prizes and auction items\, food and music at the Coronado Cays Yacht Club. For more info or to sign up a team\, please visit our website or contact Committee Co-Chairs Renee Wilson renee@parklifeproperties.com and Frances Howdyshell fthowdy@gmail.com \n3 ways to participate: Bike\, Boat or Donation \n 
URL:https://coronado365.com/event/make-a-wish-amazing-race/
CATEGORIES:Special Event
END:VEVENT
END:VCALENDAR