BEGIN:VCALENDAR
VERSION:2.0
PRODID:-//Coronado365 - ECPv6.15.10//NONSGML v1.0//EN
CALSCALE:GREGORIAN
METHOD:PUBLISH
X-WR-CALNAME:Coronado365
X-ORIGINAL-URL:https://coronado365.com
X-WR-CALDESC:Events for Coronado365
REFRESH-INTERVAL;VALUE=DURATION:PT1H
X-Robots-Tag:noindex
X-PUBLISHED-TTL:PT1H
BEGIN:VTIMEZONE
TZID:America/Los_Angeles
BEGIN:DAYLIGHT
TZOFFSETFROM:-0800
TZOFFSETTO:-0700
TZNAME:PDT
DTSTART:20210314T100000
END:DAYLIGHT
BEGIN:STANDARD
TZOFFSETFROM:-0700
TZOFFSETTO:-0800
TZNAME:PST
DTSTART:20211107T090000
END:STANDARD
BEGIN:DAYLIGHT
TZOFFSETFROM:-0800
TZOFFSETTO:-0700
TZNAME:PDT
DTSTART:20220313T100000
END:DAYLIGHT
BEGIN:STANDARD
TZOFFSETFROM:-0700
TZOFFSETTO:-0800
TZNAME:PST
DTSTART:20221106T090000
END:STANDARD
BEGIN:DAYLIGHT
TZOFFSETFROM:-0800
TZOFFSETTO:-0700
TZNAME:PDT
DTSTART:20230312T100000
END:DAYLIGHT
BEGIN:STANDARD
TZOFFSETFROM:-0700
TZOFFSETTO:-0800
TZNAME:PST
DTSTART:20231105T090000
END:STANDARD
END:VTIMEZONE
BEGIN:VEVENT
DTSTART;TZID=America/Los_Angeles:20220704T060000
DTEND;TZID=America/Los_Angeles:20220704T220000
DTSTAMP:20260423T124948
CREATED:20220517T190447Z
LAST-MODIFIED:20220607T033228Z
UID:5403-1656914400-1656972000@coronado365.com
SUMMARY:Coronado 4th of July!
DESCRIPTION:Nobody does the 4th of July like Coronado! \n \n\nCoronado Fourth of July Celebration\n\ncoronadofourthofjuly.com\n73rd Annual 4th of July Parade\n\n10 AM down Orange Ave\n\n\nNavy Leap Frogs\n\n2 PM @ Location TBA\nWatch these legends of the sky take flight above Coronado! The United States Navy Parachute Team “The Leap Frogs” is the official parachute demonstration of the US Navy.\n\n\nCoronado Concert Band \n\n4 PM @ Spreckels Park\, 601 Orange Ave\n\n\nPublic Kids Concert-Katleen Douglas\n\n4 PM @ Coronado Golf Course 16th Fairway\nKatleen Douglas will be at the Coronado Golf Course to entertain children of all ages with her renditions of classic Disney songs!\n\n\nPublic Concert-Liquid Blue\n\n5 PM @ Coronado Golf Course 16th Fairway\n\n\nCoronado Fireworks Display\n\n9 PM @ Coronado Bay\nEnjoy the end of the day with a spectacular display of fireworks over the Coronado Bay!
URL:https://coronado365.com/event/coronado-4th-of-july/
CATEGORIES:Special Event
ATTACH;FMTTYPE=image/jpeg:https://coronado365.com/wp-content/uploads/2022/05/4th-of-July-Schedule2.jpg
END:VEVENT
END:VCALENDAR