BEGIN:VCALENDAR
VERSION:2.0
PRODID:-//Coronado365 - ECPv6.15.10//NONSGML v1.0//EN
CALSCALE:GREGORIAN
METHOD:PUBLISH
X-ORIGINAL-URL:https://coronado365.com
X-WR-CALDESC:Events for Coronado365
REFRESH-INTERVAL;VALUE=DURATION:PT1H
X-Robots-Tag:noindex
X-PUBLISHED-TTL:PT1H
BEGIN:VTIMEZONE
TZID:America/Los_Angeles
BEGIN:DAYLIGHT
TZOFFSETFROM:-0800
TZOFFSETTO:-0700
TZNAME:PDT
DTSTART:20210314T100000
END:DAYLIGHT
BEGIN:STANDARD
TZOFFSETFROM:-0700
TZOFFSETTO:-0800
TZNAME:PST
DTSTART:20211107T090000
END:STANDARD
BEGIN:DAYLIGHT
TZOFFSETFROM:-0800
TZOFFSETTO:-0700
TZNAME:PDT
DTSTART:20220313T100000
END:DAYLIGHT
BEGIN:STANDARD
TZOFFSETFROM:-0700
TZOFFSETTO:-0800
TZNAME:PST
DTSTART:20221106T090000
END:STANDARD
BEGIN:DAYLIGHT
TZOFFSETFROM:-0800
TZOFFSETTO:-0700
TZNAME:PDT
DTSTART:20230312T100000
END:DAYLIGHT
BEGIN:STANDARD
TZOFFSETFROM:-0700
TZOFFSETTO:-0800
TZNAME:PST
DTSTART:20231105T090000
END:STANDARD
END:VTIMEZONE
BEGIN:VEVENT
DTSTART;TZID=America/Los_Angeles:20220623T160000
DTEND;TZID=America/Los_Angeles:20220623T190000
DTSTAMP:20260424T011628
CREATED:20220511T032903Z
LAST-MODIFIED:20220511T032903Z
UID:5314-1656000000-1656010800@coronado365.com
SUMMARY:CUSD School Board Meeting
DESCRIPTION:Thursday\, June 23rd \nCoronado Unified School District Board Meeting \n4-7 PM @ CUSD Board Room\, 201 Sixth Street \nSeating on a first come\, first serve basis \nMeeting also livestreamed on the following link \nhttps://coronadousd.net/Board-of-Trustees/Board-Meeting-Agendas-and-Minutes/index.html
URL:https://coronado365.com/event/cusd-school-board-meeting-3/
LOCATION:Coronado Unified School DIsrict\, 201 6th Street\, Coronado\, CA\, 92118\, United States
CATEGORIES:Youth & Schools
END:VEVENT
END:VCALENDAR