BEGIN:VCALENDAR
VERSION:2.0
PRODID:-//Coronado365 - ECPv6.15.10//NONSGML v1.0//EN
CALSCALE:GREGORIAN
METHOD:PUBLISH
X-WR-CALNAME:Coronado365
X-ORIGINAL-URL:https://coronado365.com
X-WR-CALDESC:Events for Coronado365
REFRESH-INTERVAL;VALUE=DURATION:PT1H
X-Robots-Tag:noindex
X-PUBLISHED-TTL:PT1H
BEGIN:VTIMEZONE
TZID:America/Los_Angeles
BEGIN:DAYLIGHT
TZOFFSETFROM:-0800
TZOFFSETTO:-0700
TZNAME:PDT
DTSTART:20210314T100000
END:DAYLIGHT
BEGIN:STANDARD
TZOFFSETFROM:-0700
TZOFFSETTO:-0800
TZNAME:PST
DTSTART:20211107T090000
END:STANDARD
BEGIN:DAYLIGHT
TZOFFSETFROM:-0800
TZOFFSETTO:-0700
TZNAME:PDT
DTSTART:20220313T100000
END:DAYLIGHT
BEGIN:STANDARD
TZOFFSETFROM:-0700
TZOFFSETTO:-0800
TZNAME:PST
DTSTART:20221106T090000
END:STANDARD
BEGIN:DAYLIGHT
TZOFFSETFROM:-0800
TZOFFSETTO:-0700
TZNAME:PDT
DTSTART:20230312T100000
END:DAYLIGHT
BEGIN:STANDARD
TZOFFSETFROM:-0700
TZOFFSETTO:-0800
TZNAME:PST
DTSTART:20231105T090000
END:STANDARD
END:VTIMEZONE
BEGIN:VEVENT
DTSTART;TZID=America/Los_Angeles:20220826T170000
DTEND;TZID=America/Los_Angeles:20220826T220000
DTSTAMP:20260423T044552
CREATED:20220811T213324Z
LAST-MODIFIED:20220811T213439Z
UID:5936-1661533200-1661551200@coronado365.com
SUMMARY:Sharp HospiceCare Benefit Dinner and Regatta
DESCRIPTION:Sharp HospiceCare and Grossmont Hospital Foundation invite you to be part of the largest summertime water event on the San Diego Bay. The annual \nospospitwill be held on Friday\, Aug. 26 and Saturday\, Aug. 27. \nThe event kicks off Friday evening\, Aug. 26\, with a pre-race dinner and silent auction\, followed by all-day festivities on Saturday\, Aug. 27\, when guests will board yachts and cruise along the racecourse for a breathtaking view of the regatta and San Diego Bay. \nFor more information or the sign-up visit the Regatta webpage or contact Bill.Navrides@s​harp.com \n  \nFriday\, August 26\, 2022 \nHotel Del Coronado\, Windsor Lawn \n5pm Registration opens \n10pm Event Concludes
URL:https://coronado365.com/event/sharp-hospicecare-benefit-dinner-and-regatta-2/
LOCATION:Hotel del Coronado\, 1500 Ocean Blvd\, Coronado\, CA\, 92118\, United States
CATEGORIES:Special Event
ATTACH;FMTTYPE=image/jpeg:https://coronado365.com/wp-content/uploads/2022/08/2022-07-01-0001-scaled.jpg
END:VEVENT
BEGIN:VEVENT
DTSTART;TZID=America/Los_Angeles:20220827T103000
DTEND;TZID=America/Los_Angeles:20220827T180000
DTSTAMP:20260423T044552
CREATED:20220811T213046Z
LAST-MODIFIED:20220811T213610Z
UID:5933-1661596200-1661623200@coronado365.com
SUMMARY:Sharp HospiceCare Benefit Dinner and Regatta
DESCRIPTION:Sharp HospiceCare and Grossmont Hospital Foundation invite you to be part of the largest summertime water event on the San Diego Bay. The annual Sharp HospiceCare Benefit Dinner and Regatta will be held on Friday\, Aug. 26 and Saturday\, Aug. 27. \nThe event kicks off Friday evening\, Aug. 26\, with a pre-race dinner and silent auction\, followed by all-day festivities on Saturday\, Aug. 27\, when guests will board yachts and cruise along the racecourse for a breathtaking view of the regatta and San Diego Bay. \nFor more information or the sign-up visit the Regatta webpage or contact Bill.Navrides@s​harp.com \n  \nSaturday\, August 27\, 2022 \nCoronado Yacht Club \n1030am Registration opens \n12pm Boats leave the docks \n3pm Boat return to docks \n3-6pm Postrace party and dinner
URL:https://coronado365.com/event/sharp-hospicecare-benefit-dinner-and-regatta/
LOCATION:CA
CATEGORIES:Special Event
ATTACH;FMTTYPE=image/jpeg:https://coronado365.com/wp-content/uploads/2022/08/2022-07-01-0001-scaled.jpg
END:VEVENT
END:VCALENDAR