BEGIN:VCALENDAR
VERSION:2.0
PRODID:-//Coronado365 - ECPv6.15.10//NONSGML v1.0//EN
CALSCALE:GREGORIAN
METHOD:PUBLISH
X-ORIGINAL-URL:https://coronado365.com
X-WR-CALDESC:Events for Coronado365
REFRESH-INTERVAL;VALUE=DURATION:PT1H
X-Robots-Tag:noindex
X-PUBLISHED-TTL:PT1H
BEGIN:VTIMEZONE
TZID:America/Los_Angeles
BEGIN:DAYLIGHT
TZOFFSETFROM:-0800
TZOFFSETTO:-0700
TZNAME:PDT
DTSTART:20210314T100000
END:DAYLIGHT
BEGIN:STANDARD
TZOFFSETFROM:-0700
TZOFFSETTO:-0800
TZNAME:PST
DTSTART:20211107T090000
END:STANDARD
BEGIN:DAYLIGHT
TZOFFSETFROM:-0800
TZOFFSETTO:-0700
TZNAME:PDT
DTSTART:20220313T100000
END:DAYLIGHT
BEGIN:STANDARD
TZOFFSETFROM:-0700
TZOFFSETTO:-0800
TZNAME:PST
DTSTART:20221106T090000
END:STANDARD
BEGIN:DAYLIGHT
TZOFFSETFROM:-0800
TZOFFSETTO:-0700
TZNAME:PDT
DTSTART:20230312T100000
END:DAYLIGHT
BEGIN:STANDARD
TZOFFSETFROM:-0700
TZOFFSETTO:-0800
TZNAME:PST
DTSTART:20231105T090000
END:STANDARD
END:VTIMEZONE
BEGIN:VEVENT
DTSTART;TZID=America/Los_Angeles:20220319T080000
DTEND;TZID=America/Los_Angeles:20220319T130000
DTSTAMP:20260425T212714
CREATED:20220313T010818Z
LAST-MODIFIED:20220313T010818Z
UID:4888-1647676800-1647694800@coronado365.com
SUMMARY:Free Shredding Event
DESCRIPTION:From the City Manager’s weekly update: \nA City and EDCO free document shredding and e-waste recycling event is set for Saturday\, March 19. The event will be held from 8 a.m. to 1 p.m. for Coronado residents at the City Hall north parking lot\, 1825 Strand Way. EDCO limits items so check the City’s website for more details. Residents also may drop off\, unwanted electronics\, including TVs\, computer monitors\, printers\, fax machines\, VCRs\, DVD players and answering machines. No household hazardous waste material\, appliances or trash please. However\, the City will host its next two Household Hazardous Waste Collection events on March 12 and 26\, from 9 a.m. to 2 p.m. at the Public Services facility\, 101 B Ave. For more information\, please call Public Services at (619) 522-7380.
URL:https://coronado365.com/event/free-shredding-event/
LOCATION:Coronado City Hall\, 1825 Strand Way\, Coronado\, CA\, 92118\, United States
CATEGORIES:City of Coronado
ATTACH;FMTTYPE=image/jpeg:https://coronado365.com/wp-content/uploads/2022/03/Shredding-event.jpg
END:VEVENT
END:VCALENDAR