BEGIN:VCALENDAR
VERSION:2.0
PRODID:-//Coronado365 - ECPv6.15.10//NONSGML v1.0//EN
CALSCALE:GREGORIAN
METHOD:PUBLISH
X-ORIGINAL-URL:https://coronado365.com
X-WR-CALDESC:Events for Coronado365
REFRESH-INTERVAL;VALUE=DURATION:PT1H
X-Robots-Tag:noindex
X-PUBLISHED-TTL:PT1H
BEGIN:VTIMEZONE
TZID:America/Los_Angeles
BEGIN:DAYLIGHT
TZOFFSETFROM:-0800
TZOFFSETTO:-0700
TZNAME:PDT
DTSTART:20210314T100000
END:DAYLIGHT
BEGIN:STANDARD
TZOFFSETFROM:-0700
TZOFFSETTO:-0800
TZNAME:PST
DTSTART:20211107T090000
END:STANDARD
BEGIN:DAYLIGHT
TZOFFSETFROM:-0800
TZOFFSETTO:-0700
TZNAME:PDT
DTSTART:20220313T100000
END:DAYLIGHT
BEGIN:STANDARD
TZOFFSETFROM:-0700
TZOFFSETTO:-0800
TZNAME:PST
DTSTART:20221106T090000
END:STANDARD
BEGIN:DAYLIGHT
TZOFFSETFROM:-0800
TZOFFSETTO:-0700
TZNAME:PDT
DTSTART:20230312T100000
END:DAYLIGHT
BEGIN:STANDARD
TZOFFSETFROM:-0700
TZOFFSETTO:-0800
TZNAME:PST
DTSTART:20231105T090000
END:STANDARD
END:VTIMEZONE
BEGIN:VEVENT
DTSTART;TZID=America/Los_Angeles:20220703T100000
DTEND;TZID=America/Los_Angeles:20220703T170000
DTSTAMP:20260422T171720
CREATED:20220607T032713Z
LAST-MODIFIED:20220607T032713Z
UID:5517-1656842400-1656867600@coronado365.com
SUMMARY:Art in the Park
DESCRIPTION:Sunday\, July 3rd \n\nArt in the Park\n\n10 AM-5 PM @ Spreckels Park\, 601 Orange Ave\nArt in the Park features more than fifty top artists in every genre including oil\, acrylic and watercolor painting\,etching\, photography\, wood and metal working\, stained glass\, ceramics and a variety of other unusual and distinctive art forms.
URL:https://coronado365.com/event/art-in-the-park-2/
LOCATION:Spreckels Park\, 641 Orange Avenue\, Coronado\, CA\, 92118\, United States
CATEGORIES:Arts & Culture
END:VEVENT
BEGIN:VEVENT
DTSTART;TZID=America/Los_Angeles:20220703T180000
DTEND;TZID=America/Los_Angeles:20220703T200000
DTSTAMP:20260422T171720
CREATED:20220607T033011Z
LAST-MODIFIED:20220607T033131Z
UID:5519-1656871200-1656878400@coronado365.com
SUMMARY:Ron’s Garage-Coronado Promenade Concert
DESCRIPTION:Ron’s Garage-Coronado Summer Concert Series\n\n6 PM @Spreckels Park\, 601 Orange Ave\nCoronado’s own Ron’s Garage started in the early 90’s playing local establishments\, becoming a staple in the community. The quartet transports you to the best musical moments of the 60s and 70s\, as well as today’s current hits. \nhttps://coronadoconcert.com/coronado-concert-schedule/
URL:https://coronado365.com/event/rons-garage-coronado-promenade-concert/
LOCATION:Spreckels Park\, 641 Orange Avenue\, Coronado\, CA\, 92118\, United States
CATEGORIES:Music
ATTACH;FMTTYPE=image/png:https://coronado365.com/wp-content/uploads/2022/05/coronado-promenade-concerts-in-park-logo.png
END:VEVENT
END:VCALENDAR