BEGIN:VCALENDAR
VERSION:2.0
PRODID:-//Coronado365 - ECPv6.15.10//NONSGML v1.0//EN
CALSCALE:GREGORIAN
METHOD:PUBLISH
X-ORIGINAL-URL:https://coronado365.com
X-WR-CALDESC:Events for Coronado365
REFRESH-INTERVAL;VALUE=DURATION:PT1H
X-Robots-Tag:noindex
X-PUBLISHED-TTL:PT1H
BEGIN:VTIMEZONE
TZID:America/Los_Angeles
BEGIN:DAYLIGHT
TZOFFSETFROM:-0800
TZOFFSETTO:-0700
TZNAME:PDT
DTSTART:20210314T100000
END:DAYLIGHT
BEGIN:STANDARD
TZOFFSETFROM:-0700
TZOFFSETTO:-0800
TZNAME:PST
DTSTART:20211107T090000
END:STANDARD
BEGIN:DAYLIGHT
TZOFFSETFROM:-0800
TZOFFSETTO:-0700
TZNAME:PDT
DTSTART:20220313T100000
END:DAYLIGHT
BEGIN:STANDARD
TZOFFSETFROM:-0700
TZOFFSETTO:-0800
TZNAME:PST
DTSTART:20221106T090000
END:STANDARD
BEGIN:DAYLIGHT
TZOFFSETFROM:-0800
TZOFFSETTO:-0700
TZNAME:PDT
DTSTART:20230312T100000
END:DAYLIGHT
BEGIN:STANDARD
TZOFFSETFROM:-0700
TZOFFSETTO:-0800
TZNAME:PST
DTSTART:20231105T090000
END:STANDARD
END:VTIMEZONE
BEGIN:VEVENT
DTSTART;TZID=America/Los_Angeles:20220814T180000
DTEND;TZID=America/Los_Angeles:20220814T180000
DTSTAMP:20260423T112651
CREATED:20220807T165034Z
LAST-MODIFIED:20220807T165034Z
UID:5899-1660500000-1660500000@coronado365.com
SUMMARY:Hotel California\, Coronado Summer Concert Series
DESCRIPTION:Sunday\, August 14th \n\nHotel California\, Coronado Summer Concert Series\n\n6 PM @ Spreckels Park\, 601 Orange Ave\nHotel California puts their own spin on classic Eagles hits\, incorporating their own R&B and Country spin. \nhttps://coronadoconcert.com/coronado-concert-schedule/
URL:https://coronado365.com/event/hotel-california-coronado-summer-concert-series/
LOCATION:CA
CATEGORIES:Music
ATTACH;FMTTYPE=image/png:https://coronado365.com/wp-content/uploads/2022/08/band_lg_hotel_california.png
END:VEVENT
END:VCALENDAR