BEGIN:VCALENDAR
VERSION:2.0
PRODID:-//Coronado365 - ECPv6.15.10//NONSGML v1.0//EN
CALSCALE:GREGORIAN
METHOD:PUBLISH
X-ORIGINAL-URL:https://coronado365.com
X-WR-CALDESC:Events for Coronado365
REFRESH-INTERVAL;VALUE=DURATION:PT1H
X-Robots-Tag:noindex
X-PUBLISHED-TTL:PT1H
BEGIN:VTIMEZONE
TZID:America/Los_Angeles
BEGIN:DAYLIGHT
TZOFFSETFROM:-0800
TZOFFSETTO:-0700
TZNAME:PDT
DTSTART:20210314T100000
END:DAYLIGHT
BEGIN:STANDARD
TZOFFSETFROM:-0700
TZOFFSETTO:-0800
TZNAME:PST
DTSTART:20211107T090000
END:STANDARD
BEGIN:DAYLIGHT
TZOFFSETFROM:-0800
TZOFFSETTO:-0700
TZNAME:PDT
DTSTART:20220313T100000
END:DAYLIGHT
BEGIN:STANDARD
TZOFFSETFROM:-0700
TZOFFSETTO:-0800
TZNAME:PST
DTSTART:20221106T090000
END:STANDARD
BEGIN:DAYLIGHT
TZOFFSETFROM:-0800
TZOFFSETTO:-0700
TZNAME:PDT
DTSTART:20230312T100000
END:DAYLIGHT
BEGIN:STANDARD
TZOFFSETFROM:-0700
TZOFFSETTO:-0800
TZNAME:PST
DTSTART:20231105T090000
END:STANDARD
END:VTIMEZONE
BEGIN:VEVENT
DTSTART;TZID=America/Los_Angeles:20220821T170000
DTEND;TZID=America/Los_Angeles:20220821T190000
DTSTAMP:20260422T223712
CREATED:20220807T220707Z
LAST-MODIFIED:20220807T220707Z
UID:5911-1661101200-1661108400@coronado365.com
SUMMARY:Louie Cruz Beltran - Coronado Summer Concert Series
DESCRIPTION:Sunday\, August 21st \n\nLouie Cruz Beltran\, Coronado Summer Concert Series\n\n5 PM @ Spreckels Park\, 601 Orange Ave\nLouie Cruz Beltran blends Afro Cuban rhythms with R&B and Jazz\, while entertaining those with his impressive skills on the conguero and timbalero. \nhttps://coronadoconcert.com/coronado-concert-schedule/
URL:https://coronado365.com/event/louie-cruz-beltran-coronado-summer-concert-series/
LOCATION:CA
CATEGORIES:Music
ATTACH;FMTTYPE=image/png:https://coronado365.com/wp-content/uploads/2022/08/band_lg_l_beltran.png
END:VEVENT
END:VCALENDAR