BEGIN:VCALENDAR
VERSION:2.0
PRODID:-//Coronado365 - ECPv6.15.10//NONSGML v1.0//EN
CALSCALE:GREGORIAN
METHOD:PUBLISH
X-ORIGINAL-URL:https://coronado365.com
X-WR-CALDESC:Events for Coronado365
REFRESH-INTERVAL;VALUE=DURATION:PT1H
X-Robots-Tag:noindex
X-PUBLISHED-TTL:PT1H
BEGIN:VTIMEZONE
TZID:America/Los_Angeles
BEGIN:DAYLIGHT
TZOFFSETFROM:-0800
TZOFFSETTO:-0700
TZNAME:PDT
DTSTART:20210314T100000
END:DAYLIGHT
BEGIN:STANDARD
TZOFFSETFROM:-0700
TZOFFSETTO:-0800
TZNAME:PST
DTSTART:20211107T090000
END:STANDARD
BEGIN:DAYLIGHT
TZOFFSETFROM:-0800
TZOFFSETTO:-0700
TZNAME:PDT
DTSTART:20220313T100000
END:DAYLIGHT
BEGIN:STANDARD
TZOFFSETFROM:-0700
TZOFFSETTO:-0800
TZNAME:PST
DTSTART:20221106T090000
END:STANDARD
BEGIN:DAYLIGHT
TZOFFSETFROM:-0800
TZOFFSETTO:-0700
TZNAME:PDT
DTSTART:20230312T100000
END:DAYLIGHT
BEGIN:STANDARD
TZOFFSETFROM:-0700
TZOFFSETTO:-0800
TZNAME:PST
DTSTART:20231105T090000
END:STANDARD
END:VTIMEZONE
BEGIN:VEVENT
DTSTART;TZID=America/Los_Angeles:20220429T170000
DTEND;TZID=America/Los_Angeles:20220429T200000
DTSTAMP:20260425T145949
CREATED:20220310T195632Z
LAST-MODIFIED:20220402T171126Z
UID:4853-1651251600-1651262400@coronado365.com
SUMMARY:Silver Strand Luau 25th Anniversary
DESCRIPTION:On April 29\, 2022\, Silver Strand Elementary School will hold its 25th Annual Luau Dinner and Silent Auction. \n  \nPresented by the Silver Strand Elementary School PTO \nFor more info: silverstrandluau@gmail.com
URL:https://coronado365.com/event/silver-strand-luau-25th-anniversary/
LOCATION:Silver Strand Elementary School\, Silver Strand Housing\, Coronado\, 92118\, United States
CATEGORIES:Youth & Schools
ORGANIZER;CN="Silver Strand Elementary PTO":MAILTO:silverstrandluau@gmail.com
END:VEVENT
END:VCALENDAR