BEGIN:VCALENDAR
VERSION:2.0
PRODID:-//Coronado365 - ECPv6.15.10//NONSGML v1.0//EN
CALSCALE:GREGORIAN
METHOD:PUBLISH
X-WR-CALNAME:Coronado365
X-ORIGINAL-URL:https://coronado365.com
X-WR-CALDESC:Events for Coronado365
REFRESH-INTERVAL;VALUE=DURATION:PT1H
X-Robots-Tag:noindex
X-PUBLISHED-TTL:PT1H
BEGIN:VTIMEZONE
TZID:America/Los_Angeles
BEGIN:DAYLIGHT
TZOFFSETFROM:-0800
TZOFFSETTO:-0700
TZNAME:PDT
DTSTART:20210314T100000
END:DAYLIGHT
BEGIN:STANDARD
TZOFFSETFROM:-0700
TZOFFSETTO:-0800
TZNAME:PST
DTSTART:20211107T090000
END:STANDARD
BEGIN:DAYLIGHT
TZOFFSETFROM:-0800
TZOFFSETTO:-0700
TZNAME:PDT
DTSTART:20220313T100000
END:DAYLIGHT
BEGIN:STANDARD
TZOFFSETFROM:-0700
TZOFFSETTO:-0800
TZNAME:PST
DTSTART:20221106T090000
END:STANDARD
BEGIN:DAYLIGHT
TZOFFSETFROM:-0800
TZOFFSETTO:-0700
TZNAME:PDT
DTSTART:20230312T100000
END:DAYLIGHT
BEGIN:STANDARD
TZOFFSETFROM:-0700
TZOFFSETTO:-0800
TZNAME:PST
DTSTART:20231105T090000
END:STANDARD
END:VTIMEZONE
BEGIN:VEVENT
DTSTART;TZID=America/Los_Angeles:20220617T130000
DTEND;TZID=America/Los_Angeles:20220617T140000
DTSTAMP:20260423T171723
CREATED:20220608T180546Z
LAST-MODIFIED:20220608T180546Z
UID:5596-1655470800-1655474400@coronado365.com
SUMMARY:Summer Festival Jazz Concert
DESCRIPTION:Join the Library for the 2022 Summer Festival Jazz Concerts. Sponsored by the Friends of the Coronado Library and Hotel Del Coronado\, concerts will take place every other Friday from June 3-August 26. Doors will open 15 minutes prior to each performance. \nOn Friday\, June 15\, Daneen Wilburn and Grammy award winning pianist/soprano saxophonist Kamau Kenyatta will bring their soulful jazz vibes to the Winn Room. Wilburn’s gospel roots will shine through and be enhanced by Kenyatta’s smooth musical stylings.
URL:https://coronado365.com/event/summer-festival-jazz-concert/
LOCATION:Coronado Public Library\, 640 Orange Avenue\, Coronado\, CA\, 92118\, United States
CATEGORIES:Music
ATTACH;FMTTYPE=image/jpeg:https://coronado365.com/wp-content/uploads/2018/08/leslie-library-mural.jpg
END:VEVENT
END:VCALENDAR