BEGIN:VCALENDAR
VERSION:2.0
PRODID:-//Coronado365 - ECPv6.15.10//NONSGML v1.0//EN
CALSCALE:GREGORIAN
METHOD:PUBLISH
X-WR-CALNAME:Coronado365
X-ORIGINAL-URL:https://coronado365.com
X-WR-CALDESC:Events for Coronado365
REFRESH-INTERVAL;VALUE=DURATION:PT1H
X-Robots-Tag:noindex
X-PUBLISHED-TTL:PT1H
BEGIN:VTIMEZONE
TZID:America/Los_Angeles
BEGIN:DAYLIGHT
TZOFFSETFROM:-0800
TZOFFSETTO:-0700
TZNAME:PDT
DTSTART:20210314T100000
END:DAYLIGHT
BEGIN:STANDARD
TZOFFSETFROM:-0700
TZOFFSETTO:-0800
TZNAME:PST
DTSTART:20211107T090000
END:STANDARD
BEGIN:DAYLIGHT
TZOFFSETFROM:-0800
TZOFFSETTO:-0700
TZNAME:PDT
DTSTART:20220313T100000
END:DAYLIGHT
BEGIN:STANDARD
TZOFFSETFROM:-0700
TZOFFSETTO:-0800
TZNAME:PST
DTSTART:20221106T090000
END:STANDARD
BEGIN:DAYLIGHT
TZOFFSETFROM:-0800
TZOFFSETTO:-0700
TZNAME:PDT
DTSTART:20230312T100000
END:DAYLIGHT
BEGIN:STANDARD
TZOFFSETFROM:-0700
TZOFFSETTO:-0800
TZNAME:PST
DTSTART:20231105T090000
END:STANDARD
END:VTIMEZONE
BEGIN:VEVENT
DTSTART;TZID=America/Los_Angeles:20220701T130000
DTEND;TZID=America/Los_Angeles:20220701T143000
DTSTAMP:20260423T185658
CREATED:20220607T032452Z
LAST-MODIFIED:20220607T032452Z
UID:5515-1656680400-1656685800@coronado365.com
SUMMARY:Summer Festival Jazz Concert Series featuring the Garners
DESCRIPTION:Summer Festival Jazz Concert Series featuring the Garners\n\n1 PM @ Coronado Library Winn Room\, 640 Orange Ave\nThe Garners are a modern vintage duo that embraces jazz\, blues and folk. \nhttps://coronado.librarycalendar.com/
URL:https://coronado365.com/event/summer-festival-jazz-concert-series-featuring-the-garners/
LOCATION:Coronado Public Library\, 640 Orange Avenue\, Coronado\, CA\, 92118\, United States
CATEGORIES:Music
END:VEVENT
BEGIN:VEVENT
DTSTART;TZID=America/Los_Angeles:20220715T130000
DTEND;TZID=America/Los_Angeles:20220715T140000
DTSTAMP:20260423T185658
CREATED:20220608T185703Z
LAST-MODIFIED:20220608T185949Z
UID:5598-1657890000-1657893600@coronado365.com
SUMMARY:Summer Festival Jazz Concerts
DESCRIPTION:Join the Library for the 2022 Summer Festival Jazz Concerts. Sponsored by the Friends of the Coronado Library and Hotel Del Coronado\, concerts will take place every other Friday from June 3-August 26. Doors will open 15 minutes prior to each performance. \nOn Friday\, July 15\, San Diego lounge scenestress Erika Davies will perform jazz standards by the likes of Billie Holiday and Ella Fitzgerald or doing her version of Sinatra or Nat King Cole tunes. She’ll also showcase some original compositions in this sure to please concert.
URL:https://coronado365.com/event/5598/
LOCATION:Coronado Public Library\, 640 Orange Avenue\, Coronado\, CA\, 92118\, United States
CATEGORIES:Music
ATTACH;FMTTYPE=image/jpeg:https://coronado365.com/wp-content/uploads/2018/08/leslie-library-mural.jpg
END:VEVENT
END:VCALENDAR