BEGIN:VCALENDAR
VERSION:2.0
PRODID:-//Coronado365 - ECPv6.15.10//NONSGML v1.0//EN
CALSCALE:GREGORIAN
METHOD:PUBLISH
X-ORIGINAL-URL:https://coronado365.com
X-WR-CALDESC:Events for Coronado365
REFRESH-INTERVAL;VALUE=DURATION:PT1H
X-Robots-Tag:noindex
X-PUBLISHED-TTL:PT1H
BEGIN:VTIMEZONE
TZID:America/Los_Angeles
BEGIN:DAYLIGHT
TZOFFSETFROM:-0800
TZOFFSETTO:-0700
TZNAME:PDT
DTSTART:20210314T100000
END:DAYLIGHT
BEGIN:STANDARD
TZOFFSETFROM:-0700
TZOFFSETTO:-0800
TZNAME:PST
DTSTART:20211107T090000
END:STANDARD
BEGIN:DAYLIGHT
TZOFFSETFROM:-0800
TZOFFSETTO:-0700
TZNAME:PDT
DTSTART:20220313T100000
END:DAYLIGHT
BEGIN:STANDARD
TZOFFSETFROM:-0700
TZOFFSETTO:-0800
TZNAME:PST
DTSTART:20221106T090000
END:STANDARD
BEGIN:DAYLIGHT
TZOFFSETFROM:-0800
TZOFFSETTO:-0700
TZNAME:PDT
DTSTART:20230312T100000
END:DAYLIGHT
BEGIN:STANDARD
TZOFFSETFROM:-0700
TZOFFSETTO:-0800
TZNAME:PST
DTSTART:20231105T090000
END:STANDARD
END:VTIMEZONE
BEGIN:VEVENT
DTSTART;TZID=America/Los_Angeles:20220427T170000
DTEND;TZID=America/Los_Angeles:20220427T200000
DTSTAMP:20260425T203252
CREATED:20220320T034049Z
LAST-MODIFIED:20220320T034240Z
UID:4927-1651078800-1651089600@coronado365.com
SUMMARY:CIFF Classic Film Series April 2022
DESCRIPTION:The Coronado Island Film Festival presents the monthly Classic Film Series.  This month’s movie is Dr. Strangelove (1964) \nEnjoy watching Classic Films on the Big Screen the way they were meant to be seen! \nDoors open at 5pm  |  Film start at 5:30pm. \nPrice includes a complimentary glass of wine\, beer or a non-alcoholic beverage.  PURCHASE TICKETS \nUpcoming Movies: \n\n\nMay 25 From Here to Eternity (1953) \nJune 29 The Glenn Miller Story (1953) \nJuly 27 Cinema Paradiso (1989) \nAugust 31 Stand By Me (1987) \nSeptember 28 High Society (1956) \nOctober 26 The Birds (1963) \nNovember 30 The Holiday (2006) \nDecember 28 Love Actually (2003)
URL:https://coronado365.com/event/ciff-classic-film-series-april-2022/
LOCATION:Village Theater\, 820 Orange Avenue\, Coronado\, CA\, 92118\, United States
CATEGORIES:Arts & Culture
ATTACH;FMTTYPE=image/jpeg:https://coronado365.com/wp-content/uploads/2022/03/2022-03-18-14.23.06-scaled.jpg
END:VEVENT
END:VCALENDAR